Workbook
Name spelers: Spelerslijst!$B$1:$D$12

Sheet Spelerslijst
A1: A | B1: speler 1 | C1: 15 | D1: =C1/20 -> 0.75 | G1: =VLOOKUP(B1,$B$1:$D$12,3,0) -> 0.75
A2: B | B2: speler 2 | C2: 16 | D2: =C2/20 -> 0.8 | G2: =VLOOKUP(B2,$B$1:$D$12,3,0) -> 0.8
A3: C | B3: speler 3 | C3: 18 | D3: =C3/20 -> 0.9 | G3: =VLOOKUP(B3,$B$1:$D$12,3,0) -> 0.9
A4: D | B4: speler 4 | C4: 21 | D4: =C4/20 -> 1.05 | G4: =VLOOKUP(B4,$B$1:$D$12,3,0) -> 1.05
A5: E | B5: vrij | D5: =C5/20 -> 0 | G5: =VLOOKUP(B5,$B$1:$D$12,3,0) -> 0
A6: F | B6: speler 6 | C6: 15 | D6: =C6/20 -> 0.75 | G6: =VLOOKUP(B6,$B$1:$D$12,3,0) -> 0.75
A7: G | B7: speler 7 | C7: 16 | D7: =C7/20 -> 0.8 | G7: =VLOOKUP(B7,$B$1:$D$12,3,0) -> 0.8
A8: H | B8: speler 8 | C8: 16 | D8: =C8/20 -> 0.8 | G8: =VLOOKUP(B8,$B$1:$D$12,3,0) -> 0.8
A9: I | B9: speler 9 | C9: 16 | D9: =C9/20 -> 0.8 | G9: =VLOOKUP(B9,$B$1:$D$12,3,0) -> 0.8
A10: J | B10: speler 10 | C10: 32 | D10: =C10/20 -> 1.6 | G10: =VLOOKUP(B10,$B$1:$D$12,3,0) -> 1.6
A11: K | B11: speler 11 | C11: 16 | D11: =C11/20 -> 0.8 | G11: =VLOOKUP(B11,$B$1:$D$12,3,0) -> 0.8
A12: L | B12: speler 12 | C12: 21 | D12: =C12/20 -> 1.05 | G12: =VLOOKUP(B12,$B$1:$D$12,3,0) -> 1.05

Sheet 12 personen
A1: Wedstrijdschema Buurtkamer Heujmansbelt
A2: voor 11 of 12 spelers
A4: nr. | B4: datum | C4: naam speler | D4: car. | E4: beurt | F4: punt | H4: naam speler | I4: car. | J4: beurt | K4: punt
A6: 1 | B6: 43474 | C6: =Spelerslijst!$B$2 -> speler 2 | D6: 9 | E6: 17 | F6: 1 | G6: =(E6>=1)*(C6>=1) -> 1 | H6: =Spelerslijst!$B$11 -> speler 11 | I6: 16 | J6: 17 | K6: 4 | L6: =(J6>=1)*(H6>=1) -> 1
A7: 2 | B7: 43474 | C7: =Spelerslijst!$B$9 -> speler 9 | D7: 16 | E7: 18 | F7: 4 | G7: =(E7>=1)*(C7>=1) -> 1 | H7: =Spelerslijst!$B$3 -> speler 3 | I7: 10 | J7: 18 | K7: 1 | L7: =(J7>=1)*(H7>=1) -> 1
A8: 3 | B8: 43474 | C8: =Spelerslijst!$B$1 -> speler 1 | D8: 6 | E8: 19 | F8: 1 | G8: =(E8>=1)*(C8>=1) -> 1 | H8: =Spelerslijst!$B$4 -> speler 4 | I8: 21 | J8: 19 | K8: 4 | L8: =(J8>=1)*(H8>=1) -> 1
A9: 4 | B9: 43474 | C9: =Spelerslijst!$B$6 -> speler 6 | D9: 15 | E9: 32 | F9: 4 | G9: =(E9>=1)*(C9>=1) -> 1 | H9: =Spelerslijst!$B$9 -> speler 9 | I9: 13 | J9: 32 | K9: 2 | L9: =(J9>=1)*(H9>=1) -> 1
A10: 6 | B10: 43481 | C10: =Spelerslijst!$B$3 -> speler 3 | D10: 18 | E10: 16 | F10: 4 | G10: =(E10>=1)*(C10>=1) -> 1 | H10: =Spelerslijst!$B$10 -> speler 10 | I10: 23 | J10: 16 | K10: 2 | L10: =(J10>=1)*(H10>=1) -> 1
A11: 25 | B11: 43481 | C11: =Spelerslijst!$B$6 -> speler 6 | D11: 7 | E11: 20 | F11: 1 | G11: =(E11>=1)*(C11>=1) -> 1 | H11: =Spelerslijst!$B$4 -> speler 4 | I11: 21 | J11: 20 | K11: 4 | L11: =(J11>=1)*(H11>=1) -> 1
A12: 34 | B12: 43481 | C12: =Spelerslijst!$B$8 -> speler 8 | D12: 7 | E12: 29 | F12: 1 | G12: =(E12>=1)*(C12>=1) -> 1 | H12: =Spelerslijst!$B$11 -> speler 11 | I12: 16 | J12: 29 | K12: 4 | L12: =(J12>=1)*(H12>=1) -> 1
A13: 36 | B13: 43481 | C13: =Spelerslijst!$B$6 -> speler 6 | D13: 15 | E13: 22 | F13: 4 | G13: =(E13>=1)*(C13>=1) -> 1 | H13: =Spelerslijst!$B$2 -> speler 2 | I13: 6 | J13: 22 | K13: 1 | L13: =(J13>=1)*(H13>=1) -> 1
A14: 45 | B14: 43481 | C14: =Spelerslijst!$B$8 -> speler 8 | D14: 16 | E14: 31 | F14: 4 | G14: =(E14>=1)*(C14>=1) -> 1 | H14: =Spelerslijst!$B$9 -> speler 9 | I14: 9 | J14: 31 | K14: 1 | L14: =(J14>=1)*(H14>=1) -> 1
A15: 9 | B15: 43488 | C15: =Spelerslijst!$B$6 -> speler 6 | D15: 14 | E15: 19 | F15: 3 | G15: =(E15>=1)*(C15>=1) -> 1 | H15: =Spelerslijst!$B$7 -> speler 7 | I15: 16 | J15: 19 | K15: 4 | L15: =(J15>=1)*(H15>=1) -> 1
A16: 17 | B16: 43488 | C16: =Spelerslijst!$B$2 -> speler 2 | D16: 16 | E16: 23 | F16: 4 | G16: =(E16>=1)*(C16>=1) -> 1 | H16: =Spelerslijst!$B$9 -> speler 9 | I16: 11 | J16: 23 | K16: 2 | L16: =(J16>=1)*(H16>=1) -> 1
A17: 24 | B17: 43488 | C17: =Spelerslijst!$B$7 -> speler 7 | D17: 8 | E17: 18 | F17: 1 | G17: =(E17>=1)*(C17>=1) -> 1 | H17: =Spelerslijst!$B$3 -> speler 3 | I17: 18 | J17: 18 | K17: 4 | L17: =(J17>=1)*(H17>=1) -> 1
A18: 28 | B18: 43488 | C18: =Spelerslijst!$B$11 -> speler 11 | D18: 16 | E18: 20 | F18: 4 | G18: =(E18>=1)*(C18>=1) -> 1 | H18: =Spelerslijst!$B$9 -> speler 9 | I18: 14 | J18: 20 | K18: 3 | L18: =(J18>=1)*(H18>=1) -> 1
A19: 30 | B19: 43488 | C19: =Spelerslijst!$B$2 -> speler 2 | D19: 16 | E19: 43 | F19: 4 | G19: =(E19>=1)*(C19>=1) -> 1 | H19: =Spelerslijst!$B$7 -> speler 7 | I19: 13 | J19: 43 | K19: 2 | L19: =(J19>=1)*(H19>=1) -> 1
A20: 5 | B20: 43495 | C20: =Spelerslijst!$B$1 -> speler 1 | D20: 15 | E20: 19 | F20: 4 | G20: =(E20>=1)*(C20>=1) -> 1 | H20: =Spelerslijst!$B$12 -> speler 12 | I20: 17 | J20: 19 | K20: 2 | L20: =(J20>=1)*(H20>=1) -> 1
A21: 15 | B21: 43495 | C21: =Spelerslijst!B11 -> speler 11 | D21: 11 | E21: 21 | F21: 2 | G21: =(E21>=1)*(C21>=1) -> 1 | H21: =Spelerslijst!$B$12 -> speler 12 | I21: 21 | J21: 21 | K21: 4 | L21: =(J21>=1)*(H21>=1) -> 1 | N21: stand
A22: 19 | B22: 43495 | C22: =Spelerslijst!$B$4 -> speler 4 | D22: 21 | E22: 33 | F22: 4 | G22: =(E22>=1)*(C22>=1) -> 1 | H22: =Spelerslijst!$B$7 -> speler 7 | I22: 11 | J22: 33 | K22: 2 | L22: =(J22>=1)*(H22>=1) -> 1
A23: 22 | B23: 43495 | C23: =Spelerslijst!$B$9 -> speler 9 | D23: 16 | E23: 7 | F23: 4 | G23: =(E23>=1)*(C23>=1) -> 1 | H23: =Spelerslijst!$B$1 -> speler 1 | I23: 3 | J23: 7 | K23: 0 | L23: =(J23>=1)*(H23>=1) -> 1
A24: 31 | B24: 43495 | C24: =Spelerslijst!$B$3 -> speler 3 | D24: 18 | E24: 19 | F24: 4 | G24: =(E24>=1)*(C24>=1) -> 1 | H24: =Spelerslijst!$B$6 -> speler 6 | I24: 12 | J24: 19 | K24: 2 | L24: =(J24>=1)*(H24>=1) -> 1
A25: 51 | B25: 43495 | C25: =Spelerslijst!$B$8 -> speler 8 | D25: 14 | E25: 25 | F25: 3 | G25: =(E25>=1)*(C25>=1) -> 1 | H25: =Spelerslijst!$B$12 -> speler 12 | I25: 21 | J25: 25 | K25: 4 | L25: =(J25>=1)*(H25>=1) -> 1
A26: 56 | B26: 43495 | C26: =Spelerslijst!$B$7 -> speler 7 | D26: 9 | E26: 21 | F26: 1 | G26: =(E26>=1)*(C26>=1) -> 1 | H26: =Spelerslijst!$B$8 -> speler 8 | I26: 16 | J26: 21 | K26: 4 | L26: =(J26>=1)*(H26>=1) -> 1
A27: 11 | B27: 43502 | C27: =Spelerslijst!$B$10 -> speler 10 | D27: 14 | E27: 22 | F27: 1 | G27: =(E27>=1)*(C27>=1) -> 1 | H27: =Spelerslijst!$B$2 -> speler 2 | I27: 16 | J27: 22 | K27: 4 | L27: =(J27>=1)*(H27>=1) -> 1
A28: 21 | B28: 43502 | C28: =Spelerslijst!$B$10 -> speler 10 | D28: 32 | E28: 29 | F28: 4 | G28: =(E28>=1)*(C28>=1) -> 1 | H28: =Spelerslijst!$B$11 -> speler 11 | I28: 15 | J28: 29 | K28: 3 | L28: =(J28>=1)*(H28>=1) -> 1 | W28: =ALS.FOUT(R36/VERT.ZOEKEN(N36;Spelerslijst!$B$1:$D$12;3;0);"")
A29: 40 | B29: 43502 | C29: =Spelerslijst!$B$10 -> speler 10 | D29: 32 | E29: 28 | F29: 4 | G29: =(E29>=1)*(C29>=1) -> 1 | H29: =Spelerslijst!$B$8 -> speler 8 | I29: 13 | J29: 28 | K29: 2 | L29: =(J29>=1)*(H29>=1) -> 1 | N29: Spelersnaam | O29: Aantal wedstrijden | P29: Caramboles | Q29: Beurten | R29: Gemiddelde | S29: Punten
A30: 41 | B30: 43502 | C30: =Spelerslijst!$B$11 -> speler 11 | D30: 16 | E30: 18 | F30: 4 | G30: =(E30>=1)*(C30>=1) -> 1 | H30: =Spelerslijst!$B$7 -> speler 7 | I30: 12 | J30: 18 | K30: 2 | L30: =(J30>=1)*(H30>=1) -> 1 | X30: =ALS.FOUT(R36/VERT.ZOEKEN(N36;spelers;3;0);"")
A31: 44 | B31: 43502 | C31: =Spelerslijst!$B$3 -> speler 3 | D31: 16 | E31: 25 | F31: 3 | G31: =(E31>=1)*(C31>=1) -> 1 | H31: =Spelerslijst!$B$4 -> speler 4 | I31: 21 | J31: 25 | K31: 4 | L31: =(J31>=1)*(H31>=1) -> 1
A32: 52 | B32: 43502 | C32: =Spelerslijst!$B$9 -> speler 9 | D32: 16 | E32: 25 | F32: 4 | G32: =(E32>=1)*(C32>=1) -> 1 | H32: =Spelerslijst!$B$7 -> speler 7 | I32: 9 | J32: 25 | K32: 1 | L32: =(J32>=1)*(H32>=1) -> 1 | V32: percentage | X32: hier heeft de selectie "Spelerslijst!$B$1:$D$12" de naam "spelers"
A33: 7 | B33: 43509 | C33: =Spelerslijst!$B$4 -> speler 4 | D33: 21 | E33: 15 | F33: 4 | G33: =(E33>=1)*(C33>=1) -> 1 | H33: =Spelerslijst!$B$9 -> speler 9 | I33: 9 | J33: 15 | K33: 1 | L33: =(J33>=1)*(H33>=1) -> 1 | U33: gem. | V33: van te maken
A34: 16 | B34: 43509 | C34: =Spelerslijst!$B$1 -> speler 1 | D34: 12 | E34: 32 | F34: 2 | G34: =(E34>=1)*(C34>=1) -> 1 | H34: =Spelerslijst!$B$10 -> speler 10 | I34: 32 | J34: 32 | K34: 4 | L34: =(J34>=1)*(H34>=1) -> 1 | U34: punten | V34: gemiddelde
A35: 18 | B35: 43509 | C35: =Spelerslijst!$B$3 -> speler 3 | D35: 18 | E35: 11 | F35: 4 | G35: =(E35>=1)*(C35>=1) -> 1 | H35: =Spelerslijst!$B$8 -> speler 8 | I35: 4 | J35: 11 | K35: 0 | L35: =(J35>=1)*(H35>=1) -> 1 | AD35: Dit hoeft niet
A36: 62 | B36: 43509 | C36: =Spelerslijst!$B$8 -> speler 8 | D36: 7 | E36: 15 | F36: 1 | G36: =(E36>=1)*(C36>=1) -> 1 | H36: =Spelerslijst!$B$6 -> speler 6 | I36: 15 | J36: 15 | K36: 4 | L36: =(J36>=1)*(H36>=1) -> 1 | N36: =Spelerslijst!B3 -> speler 3 | O36: =SUMIF($C$6:$C$71,N36,$G$6:$G$71)+SUMIF($H$6:$H$71,N36,$L$6:$L$71) -> 10 | P36: =SUMIF($C$6:$C$71,N36,$D$6:$D$71)+SUMIF($H$6:$H$71,N36,$I$6:$I$71) -> 170 | Q36: =SUMIF($C$6:$C$71,N36,$E$6:$E$71)+SUMIF($H$6:$H$71,N36,$J$6:$J$71) -> 181 | R36: =IF(P36=0,"",P36/Q36) -> 0.93922652 | S36: =SUMIF($C$6:$C$71,N36,$F$6:$F$71)+SUMIF($H$6:$H$71,N36,$K$6:$K$71) -> 36 | T36: 1 | U36: =S36/O36 -> 3.6 | V36: =R36/VLOOKUP(N36,$AD$36:$AF$47,3,0) -> 1.043585 | W36: =IFERROR(R36/VLOOKUP(N36,Spelerslijst!$B$1:$D$12,3,0),"") -> 1.043585 | X36: =IFERROR(R36/VLOOKUP(N36,spelers,3,0),"") -> 1.043585 | AD36: =Spelerslijst!B1 -> speler 1 | AE36: =Spelerslijst!C1 -> 15 | AF36: =Spelerslijst!D1 -> 0.75
A37: 64 | B37: 43509 | C37: =Spelerslijst!$B$10 -> speler 10 | D37: 20 | E37: 26 | F37: 1 | G37: =(E37>=1)*(C37>=1) -> 1 | H37: =Spelerslijst!$B$4 -> speler 4 | I37: 21 | J37: 26 | K37: 4 | L37: =(J37>=1)*(H37>=1) -> 1 | N37: =Spelerslijst!B4 -> speler 4 | O37: =SUMIF($C$6:$C$71,N37,$G$6:$G$71)+SUMIF($H$6:$H$71,N37,$L$6:$L$71) -> 10 | P37: =SUMIF($C$6:$C$71,N37,$D$6:$D$71)+SUMIF($H$6:$H$71,N37,$I$6:$I$71) -> 200 | Q37: =SUMIF($C$6:$C$71,N37,$E$6:$E$71)+SUMIF($H$6:$H$71,N37,$J$6:$J$71) -> 216 | R37: =IF(P37=0,"",P37/Q37) -> 0.92592593 | S37: =SUMIF($C$6:$C$71,N37,$F$6:$F$71)+SUMIF($H$6:$H$71,N37,$K$6:$K$71) -> 36 | T37: 2 | U37: =S37/O37 -> 3.6 | V37: =R37/VLOOKUP(N37,$AD$36:$AF$47,3,0) -> 0.88183422 | W37: =IFERROR(R37/VLOOKUP(N37,Spelerslijst!$B$1:$D$12,3,0),"") -> 0.88183422 | X37: =IFERROR(R37/VLOOKUP(N37,spelers,3,0),"") -> 0.88183422 | AD37: =Spelerslijst!B2 -> speler 2 | AE37: =Spelerslijst!C2 -> 16 | AF37: =Spelerslijst!D2 -> 0.8
A38: 10 | B38: 43516 | C38: =Spelerslijst!$B$11 -> speler 11 | D38: 16 | E38: 14 | F38: 4 | G38: =(E38>=1)*(C38>=1) -> 1 | H38: =Spelerslijst!$B$1 -> speler 1 | I38: 1 | J38: 14 | K38: 0 | L38: =(J38>=1)*(H38>=1) -> 1 | N38: =Spelerslijst!B2 -> speler 2 | O38: =SUMIF($C$6:$C$71,N38,$G$6:$G$71)+SUMIF($H$6:$H$71,N38,$L$6:$L$71) -> 10 | P38: =SUMIF($C$6:$C$71,N38,$D$6:$D$71)+SUMIF($H$6:$H$71,N38,$I$6:$I$71) -> 137 | Q38: =SUMIF($C$6:$C$71,N38,$E$6:$E$71)+SUMIF($H$6:$H$71,N38,$J$6:$J$71) -> 212 | R38: =IF(P38=0,"",P38/Q38) -> 0.64622642 | S38: =SUMIF($C$6:$C$71,N38,$F$6:$F$71)+SUMIF($H$6:$H$71,N38,$K$6:$K$71) -> 31 | T38: 4 | U38: =S38/O38 -> 3.1 | V38: =R38/VLOOKUP(N38,$AD$36:$AF$47,3,0) -> 0.80778302 | W38: =IFERROR(R38/VLOOKUP(N38,Spelerslijst!$B$1:$D$12,3,0),"") -> 0.80778302 | X38: =IFERROR(R38/VLOOKUP(N38,spelers,3,0),"") -> 0.80778302 | AD38: =Spelerslijst!B3 -> speler 3 | AE38: =Spelerslijst!C3 -> 18 | AF38: =Spelerslijst!D3 -> 0.9
A39: 12 | B39: 43516 | C39: =Spelerslijst!$B$8 -> speler 8 | D39: 16 | E39: 25 | F39: 4 | G39: =(E39>=1)*(C39>=1) -> 1 | H39: =Spelerslijst!$B$4 -> speler 4 | I39: 16 | J39: 25 | K39: 2 | L39: =(J39>=1)*(H39>=1) -> 1 | N39: =Spelerslijst!B6 -> speler 6 | O39: =SUMIF($C$6:$C$71,N39,$G$6:$G$71)+SUMIF($H$6:$H$71,N39,$L$6:$L$71) -> 10 | P39: =SUMIF($C$6:$C$71,N39,$D$6:$D$71)+SUMIF($H$6:$H$71,N39,$I$6:$I$71) -> 129 | Q39: =SUMIF($C$6:$C$71,N39,$E$6:$E$71)+SUMIF($H$6:$H$71,N39,$J$6:$J$71) -> 212 | R39: =IF(P39=0,"",P39/Q39) -> 0.60849057 | S39: =SUMIF($C$6:$C$71,N39,$F$6:$F$71)+SUMIF($H$6:$H$71,N39,$K$6:$K$71) -> 31 | T39: 6 | U39: =S39/O39 -> 3.1 | V39: =R39/VLOOKUP(N39,$AD$36:$AF$47,3,0) -> 0.81132075 | W39: =IFERROR(R39/VLOOKUP(N39,Spelerslijst!$B$1:$D$12,3,0),"") -> 0.81132075 | X39: =IFERROR(R39/VLOOKUP(N39,spelers,3,0),"") -> 0.81132075 | AD39: =Spelerslijst!B4 -> speler 4 | AE39: =Spelerslijst!C4 -> 21 | AF39: =Spelerslijst!D4 -> 1.05
A40: 42 | B40: 43516 | C40: =Spelerslijst!$B$1 -> speler 1 | D40: 12 | E40: 19 | F40: 2 | G40: =(E40>=1)*(C40>=1) -> 1 | H40: =Spelerslijst!$B$6 -> speler 6 | I40: 15 | J40: 19 | K40: 4 | L40: =(J40>=1)*(H40>=1) -> 1 | N40: =Spelerslijst!B9 -> speler 9 | O40: =SUMIF($C$6:$C$71,N40,$G$6:$G$71)+SUMIF($H$6:$H$71,N40,$L$6:$L$71) -> 10 | P40: =SUMIF($C$6:$C$71,N40,$D$6:$D$71)+SUMIF($H$6:$H$71,N40,$I$6:$I$71) -> 136 | Q40: =SUMIF($C$6:$C$71,N40,$E$6:$E$71)+SUMIF($H$6:$H$71,N40,$J$6:$J$71) -> 221 | R40: =IF(P40=0,"",P40/Q40) -> 0.61538462 | S40: =SUMIF($C$6:$C$71,N40,$F$6:$F$71)+SUMIF($H$6:$H$71,N40,$K$6:$K$71) -> 29 | T40: 5 | U40: =S40/O40 -> 2.9 | V40: =R40/VLOOKUP(N40,$AD$36:$AF$47,3,0) -> 0.76923077 | W40: =IFERROR(R40/VLOOKUP(N40,Spelerslijst!$B$1:$D$12,3,0),"") -> 0.76923077 | X40: =IFERROR(R40/VLOOKUP(N40,spelers,3,0),"") -> 0.76923077 | AD40: =Spelerslijst!B5 -> vrij | AE40: =Spelerslijst!C5 -> 0 | AF40: =Spelerslijst!D5 -> 0
A41: 49 | B41: 43516 | C41: =Spelerslijst!$B$4 -> speler 4 | D41: 16 | E41: 22 | F41: 2 | G41: =(E41>=1)*(C41>=1) -> 1 | H41: =Spelerslijst!$B$2 -> speler 2 | I41: 16 | J41: 22 | K41: 4 | L41: =(J41>=1)*(H41>=1) -> 1 | N41: =Spelerslijst!B11 -> speler 11 | O41: =SUMIF($C$6:$C$71,N41,$G$6:$G$71)+SUMIF($H$6:$H$71,N41,$L$6:$L$71) -> 10 | P41: =SUMIF($C$6:$C$71,N41,$D$6:$D$71)+SUMIF($H$6:$H$71,N41,$I$6:$I$71) -> 130 | Q41: =SUMIF($C$6:$C$71,N41,$E$6:$E$71)+SUMIF($H$6:$H$71,N41,$J$6:$J$71) -> 204 | R41: =IF(P41=0,"",P41/Q41) -> 0.6372549 | S41: =SUMIF($C$6:$C$71,N41,$F$6:$F$71)+SUMIF($H$6:$H$71,N41,$K$6:$K$71) -> 28 | T41: 3 | U41: =S41/O41 -> 2.8 | V41: =R41/VLOOKUP(N41,$AD$36:$AF$47,3,0) -> 0.79656863 | W41: =IFERROR(R41/VLOOKUP(N41,Spelerslijst!$B$1:$D$12,3,0),"") -> 0.79656863 | X41: =IFERROR(R41/VLOOKUP(N41,spelers,3,0),"") -> 0.79656863 | AD41: =Spelerslijst!B6 -> speler 6 | AE41: =Spelerslijst!C6 -> 15 | AF41: =Spelerslijst!D6 -> 0.75
A42: 59 | B42: 43516 | C42: =Spelerslijst!$B$3 -> speler 3 | D42: 18 | E42: 18 | F42: 4 | G42: =(E42>=1)*(C42>=1) -> 1 | H42: =Spelerslijst!$B$1 -> speler 1 | I42: 4 | J42: 18 | K42: 0 | L42: =(J42>=1)*(H42>=1) -> 1 | N42: =Spelerslijst!B12 -> speler 12 | O42: =SUMIF($C$6:$C$71,N42,$G$6:$G$71)+SUMIF($H$6:$H$71,N42,$L$6:$L$71) -> 10 | P42: =SUMIF($C$6:$C$71,N42,$D$6:$D$71)+SUMIF($H$6:$H$71,N42,$I$6:$I$71) -> 166 | Q42: =SUMIF($C$6:$C$71,N42,$E$6:$E$71)+SUMIF($H$6:$H$71,N42,$J$6:$J$71) -> 199 | R42: =IF(P42=0,"",P42/Q42) -> 0.83417085 | S42: =SUMIF($C$6:$C$71,N42,$F$6:$F$71)+SUMIF($H$6:$H$71,N42,$K$6:$K$71) -> 25 | T42: 9 | U42: =S42/O42 -> 2.5 | V42: =R42/VLOOKUP(N42,$AD$36:$AF$47,3,0) -> 0.79444843 | W42: =IFERROR(R42/VLOOKUP(N42,Spelerslijst!$B$1:$D$12,3,0),"") -> 0.79444843 | X42: =IFERROR(R42/VLOOKUP(N42,spelers,3,0),"") -> 0.79444843 | AD42: =Spelerslijst!B7 -> speler 7 | AE42: =Spelerslijst!C7 -> 16 | AF42: =Spelerslijst!D7 -> 0.8
...

Sheet Blad1
A1: datum | B1: naam speler | C1: car. | D1: beurt | E1: punt | G1: naam speler | H1: car. | I1: beurt | J1: punt
A2: 43474 | B2: =Spelerslijst!$B$2 -> speler 2 | C2: 9 | D2: 17 | E2: 1 | F2: =(D2>=1)*(B2>=1) -> 1 | G2: =Spelerslijst!$B$11 -> speler 11 | H2: 16 | I2: 17 | J2: 4
A3: 43474 | B3: =Spelerslijst!$B$9 -> speler 9 | C3: 16 | D3: 18 | E3: 4 | F3: =(D3>=1)*(B3>=1) -> 1 | G3: =Spelerslijst!$B$3 -> speler 3 | H3: 10 | I3: 18 | J3: 1
A4: 43474 | B4: =Spelerslijst!$B$1 -> speler 1 | C4: 6 | D4: 19 | E4: 1 | F4: =(D4>=1)*(B4>=1) -> 1 | G4: =Spelerslijst!$B$4 -> speler 4 | H4: 21 | I4: 19 | J4: 4
A5: 43474 | B5: =Spelerslijst!$B$6 -> speler 6 | C5: 15 | D5: 32 | E5: 4 | F5: =(D5>=1)*(B5>=1) -> 1 | G5: =Spelerslijst!$B$9 -> speler 9 | H5: 13 | I5: 32 | J5: 2
