Workbook

Sheet Spelerslijst
A1: Spelerslijst Buurtkamer Heujmansbelt
A4: A | B4: speler 1
A5: B | B5: speler 2
A6: C | B6: speler 3
A7: D | B7: speler 4
A8: E | B8: speler 5
A9: F | B9: speler 6
A10: G | B10: speler 7
A11: H | B11: speler 8
A12: I | B12: speler 9
A13: J | B13: speler 10
A14: K | B14: speler 11
A15: L | B15: speler 12
... A18: O | B18: speler 15

Sheet 8 personen
A1: Wedstrijdschema Buurtkamer Heujmansbelt
A2: 8 personen | R2: stand
N3: hulpkolommen | Y3: Zoals het zou moeten zijn
A4: nr. | B4: datum | C4: naam speler | D4: caramboles | E4: beurten | F4: punten | H4: naam speler | I4: =D4 -> caramboles | J4: =E4 -> beurten | K4: =F4 -> punten | L4: arbiter | R4: naam speler | S4: wedstrijden | T4: caramboles | U4: beurten | V4: gemiddelde | W4: punten | Z4: wedstrijden | AA4: caramboles | AB4: beurten | AC4: gemiddelde | AD4: punten
A5: 1 | B5: 42718 | C5: =C43 -> speler 8 | D5: 2 | E5: 7 | F5: 0 | G5: - | H5: =Spelerslijst!B4 -> speler 1 | I5: 22 | J5: 7 | K5: 4 | L5: =C38 -> speler 3 | N5: =Spelerslijst!B4 -> speler 1 | O5: =SUMIF($C$5:$C$33,N5,$F$5:$F$33)+SUMIF($H$5:$H$33,N5,$K$5:$K$33) -> 8 | P5: =O5+ROW()/100 -> 8.05 | Q5: 1 | R5: =INDEX($N$5:$N$13,MATCH(LARGE($P$5:$P$13,Q5),$P$5:$P$13,0)) -> speler 1 | S5: 2 | T5: =SUMIF($C$5:$C$33,R5,$D$5:$D$33)+SUMIF($H$5:$H$33,R5,$I$5:$I$33) -> 44 | U5: =SUMIF($C$5:$C$33,R5,$E$5:$E$33)+SUMIF($H$5:$H$33,R5,$J$5:$J$33) -> 26 | V5: =IF(T5=0,"",T5/U5) -> 1.6923077 | W5: =SUMIF(C$5:C$33,R5,$F$5:$F$33)+SUMIF($H$5:$H$33,R5,$K$5:$K$33) -> 8 | Y5: speler 1 | Z5: 2 | AA5: 44 | AB5: 26 | AC5: 1.6923077 | AD5: 8
A6: 2 | B6: 42718 | C6: =C42 -> speler 7 | D6: 16 | E6: 22 | F6: 4 | G6: - | H6: =C37 -> speler 2 | I6: 14 | J6: 22 | K6: 2 | L6: ='8 personen'!C36 -> speler 1 | N6: =Spelerslijst!B5 -> speler 2 | O6: =SUMIF($C$5:$C$33,N6,$F$5:$F$33)+SUMIF($H$5:$H$33,N6,$K$5:$K$33) -> 2 | P6: =O6+ROW()/100 -> 2.06 | Q6: 2 | R6: =INDEX($N$5:$N$13,MATCH(LARGE($P$5:$P$13,Q6),$P$5:$P$13,0)) -> speler 7 | S6: 2 | T6: =SUMIF($C$5:$C$33,R6,$D$5:$D$33)+SUMIF($H$5:$H$33,R6,$I$5:$I$33) -> 24 | U6: =SUMIF($C$5:$C$33,R6,$E$5:$E$33)+SUMIF($H$5:$H$33,R6,$J$5:$J$33) -> 41 | V6: =IF(T6=0,"",T6/U6) -> 0.58536585 | W6: =SUMIF(C$5:C$33,R6,$F$5:$F$33)+SUMIF($H$5:$H$33,R6,$K$5:$K$33) -> 5 | Y6: speler 7 | Z6: 2 | AA6: 24 | AB6: 41 | AC6: 0.58536585 | AD6: 5
A7: 3 | B7: 42718 | C7: =C41 -> speler 6 | D7: 12 | E7: 19 | F7: 2 | G7: - | H7: =C40 -> speler 5 | I7: 20 | J7: 19 | K7: 4 | L7: =C37 -> speler 2 | N7: =Spelerslijst!B6 -> speler 3 | O7: =SUMIF($C$5:$C$33,N7,$F$5:$F$33)+SUMIF($H$5:$H$33,N7,$K$5:$K$33) -> 4 | P7: =O7+ROW()/100 -> 4.07 | Q7: 3 | R7: =INDEX($N$5:$N$13,MATCH(LARGE($P$5:$P$13,Q7),$P$5:$P$13,0)) -> speler 5 | S7: 1 | T7: =SUMIF($C$5:$C$33,R7,$D$5:$D$33)+SUMIF($H$5:$H$33,R7,$I$5:$I$33) -> 20 | U7: =SUMIF($C$5:$C$33,R7,$E$5:$E$33)+SUMIF($H$5:$H$33,R7,$J$5:$J$33) -> 19 | V7: =IF(T7=0,"",T7/U7) -> 1.0526316 | W7: =SUMIF(C$5:C$33,R7,$F$5:$F$33)+SUMIF($H$5:$H$33,R7,$K$5:$K$33) -> 4 | Y7: speler 5 | Z7: 1 | AA7: 20 | AB7: 19 | AC7: 1.0526316 | AD7: 4
A8: 4 | B8: 42718 | C8: =C39 -> speler 4 | D8: 19 | E8: 31 | F8: 2 | G8: - | H8: =C38 -> speler 3 | I8: 18 | J8: 31 | K8: 4 | L8: =C40 -> speler 5 | N8: =Spelerslijst!B7 -> speler 4 | O8: =SUMIF($C$5:$C$33,N8,$F$5:$F$33)+SUMIF($H$5:$H$33,N8,$K$5:$K$33) -> 2 | P8: =O8+ROW()/100 -> 2.08 | Q8: 4 | R8: =INDEX($N$5:$N$13,MATCH(LARGE($P$5:$P$13,Q8),$P$5:$P$13,0)) -> speler 3 | S8: 1 | T8: =SUMIF($C$5:$C$33,R8,$D$5:$D$33)+SUMIF($H$5:$H$33,R8,$I$5:$I$33) -> 18 | U8: =SUMIF($C$5:$C$33,R8,$E$5:$E$33)+SUMIF($H$5:$H$33,R8,$J$5:$J$33) -> 31 | V8: =IF(T8=0,"",T8/U8) -> 0.58064516 | W8: =SUMIF(C$5:C$33,R8,$F$5:$F$33)+SUMIF($H$5:$H$33,R8,$K$5:$K$33) -> 4 | Y8: speler 3 | Z8: 1 | AA8: 18 | AB8: 31 | AC8: 0.58064516 | AD8: 4
A9: 5 | B9: 42718 | C9: =C36 -> speler 1 | D9: 22 | E9: 19 | F9: 4 | G9: - | H9: =C42 -> speler 7 | I9: 8 | J9: 19 | K9: 1 | L9: =Spelerslijst!B11 -> speler 8 | N9: =Spelerslijst!B8 -> speler 5 | O9: =SUMIF($C$5:$C$33,N9,$F$5:$F$33)+SUMIF($H$5:$H$33,N9,$K$5:$K$33) -> 4 | P9: =O9+ROW()/100 -> 4.09 | Q9: 5 | R9: =INDEX($N$5:$N$13,MATCH(LARGE($P$5:$P$13,Q9),$P$5:$P$13,0)) -> speler 6 | S9: 1 | T9: =SUMIF($C$5:$C$33,R9,$D$5:$D$33)+SUMIF($H$5:$H$33,R9,$I$5:$I$33) -> 12 | U9: =SUMIF($C$5:$C$33,R9,$E$5:$E$33)+SUMIF($H$5:$H$33,R9,$J$5:$J$33) -> 19 | V9: =IF(T9=0,"",T9/U9) -> 0.63157895 | W9: =SUMIF(C$5:C$33,R9,$F$5:$F$33)+SUMIF($H$5:$H$33,R9,$K$5:$K$33) -> 2 | Y9: speler 2 | Z9: 1 | AA9: 14 | AB9: 22 | AC9: 0.63636364 | AD9: 2
A10: 6 | B10: 42725 | C10: =C41 -> speler 6 | G10: - | H10: =Spelerslijst!B11 -> speler 8 | L10: =C39 -> speler 4 | N10: =Spelerslijst!B9 -> speler 6 | O10: =SUMIF($C$5:$C$33,N10,$F$5:$F$33)+SUMIF($H$5:$H$33,N10,$K$5:$K$33) -> 2 | P10: =O10+ROW()/100 -> 2.1 | Q10: 6 | R10: =INDEX($N$5:$N$13,MATCH(LARGE($P$5:$P$13,Q10),$P$5:$P$13,0)) -> speler 4 | S10: 1 | T10: =SUMIF($C$5:$C$33,R10,$D$5:$D$33)+SUMIF($H$5:$H$33,R10,$I$5:$I$33) -> 19 | U10: =SUMIF($C$5:$C$33,R10,$E$5:$E$33)+SUMIF($H$5:$H$33,R10,$J$5:$J$33) -> 31 | V10: =IF(T10=0,"",T10/U10) -> 0.61290323 | W10: =SUMIF(C$5:C$33,R10,$F$5:$F$33)+SUMIF($H$5:$H$33,R10,$K$5:$K$33) -> 2 | Y10: speler 6 | Z10: 1 | AA10: 12 | AB10: 19 | AC10: 0.63157895 | AD10: 2
A11: 7 | B11: 42725 | C11: =C40 -> speler 5 | G11: - | H11: =C37 -> speler 2 | L11: =C42 -> speler 7 | N11: =Spelerslijst!B10 -> speler 7 | O11: =SUMIF($C$5:$C$33,N11,$F$5:$F$33)+SUMIF($H$5:$H$33,N11,$K$5:$K$33) -> 5 | P11: =O11+ROW()/100 -> 5.11 | Q11: 7 | R11: =INDEX($N$5:$N$13,MATCH(LARGE($P$5:$P$13,Q11),$P$5:$P$13,0)) -> speler 2 | S11: 1 | T11: =SUMIF($C$5:$C$33,R11,$D$5:$D$33)+SUMIF($H$5:$H$33,R11,$I$5:$I$33) -> 14 | U11: =SUMIF($C$5:$C$33,R11,$E$5:$E$33)+SUMIF($H$5:$H$33,R11,$J$5:$J$33) -> 22 | V11: =IF(T11=0,"",T11/U11) -> 0.63636364 | W11: =SUMIF(C$5:C$33,R11,$F$5:$F$33)+SUMIF($H$5:$H$33,R11,$K$5:$K$33) -> 2 | Y11: speler 4 | Z11: 1 | AA11: 19 | AB11: 31 | AC11: 0.61290323 | AD11: 2
A12: 8 | B12: 42725 | C12: =C39 -> speler 4 | G12: - | H12: =Spelerslijst!B11 -> speler 8 | L12: =C41 -> speler 6 | N12: =Spelerslijst!B11 -> speler 8 | O12: =SUMIF($C$5:$C$33,N12,$F$5:$F$33)+SUMIF($H$5:$H$33,N12,$K$5:$K$33) -> 0 | P12: =O12+ROW()/100 -> 0.12 | Q12: 8 | R12: =INDEX($N$5:$N$13,MATCH(LARGE($P$5:$P$13,Q12),$P$5:$P$13,0)) -> speler 8 | S12: 1 | T12: =SUMIF($C$5:$C$33,R12,$D$5:$D$33)+SUMIF($H$5:$H$33,R12,$I$5:$I$33) -> 2 | U12: =SUMIF($C$5:$C$33,R12,$E$5:$E$33)+SUMIF($H$5:$H$33,R12,$J$5:$J$33) -> 7 | V12: =IF(T12=0,"",T12/U12) -> 0.28571429 | W12: =SUMIF(C$5:C$33,R12,$F$5:$F$33)+SUMIF($H$5:$H$33,R12,$K$5:$K$33) -> 0 | Y12: speler 8 | Z12: 1 | AA12: 2 | AB12: 7 | AC12: 0.28571429 | AD12: 0
A13: 9 | B13: 42725 | C13: =C38 -> speler 3 | G13: - | H13: =C42 -> speler 7 | L13: =C36 -> speler 1
A14: 10 | B14: 42725 | C14: =C41 -> speler 6 | G14: - | H14: =C36 -> speler 1 | L14: =C38 -> speler 3
A15: 11 | C15: =C40 -> speler 5 | G15: - | H15: =C39 -> speler 4 | L15: =C37 -> speler 2
A16: 12 | C16: =C38 -> speler 3 | G16: - | H16: =C37 -> speler 2 | L16: =C40 -> speler 5
A17: 13 | C17: =Spelerslijst!B11 -> speler 8 | G17: - | H17: =C42 -> speler 7 | L17: =C39 -> speler 4
A18: 14 | C18: =C36 -> speler 1 | G18: - | H18: =C40 -> speler 5 | L18: =Spelerslijst!B11 -> speler 8
A19: 15 | C19: =C39 -> speler 4 | G19: - | H19: =C41 -> speler 6 | L19: =C42 -> speler 7
A20: 16 | C20: =Spelerslijst!B11 -> speler 8 | G20: - | H20: =C38 -> speler 3 | L20: =C41 -> speler 6
A21: 17 | C21: =C37 -> speler 2 | G21: - | H21: =C42 -> speler 7 | L21: =C38 -> speler 3
A22: 18 | C22: =C40 -> speler 5 | G22: - | H22: =C41 -> speler 6 | L22: =C36 -> speler 1
A23: 19 | C23: =C39 -> speler 4 | G23: - | H23: =C36 -> speler 1 | L23: =C37 -> speler 2
A24: 20 | C24: =C37 -> speler 2 | G24: - | H24: =Spelerslijst!B11 -> speler 8 | L24: =C40 -> speler 5
A25: 21 | C25: =C41 -> speler 6 | G25: - | H25: =C38 -> speler 3 | L25: =Spelerslijst!B11 -> speler 8
A26: 22 | C26: =C38 -> speler 3 | G26: - | H26: =C40 -> speler 5 | L26: =C39 -> speler 4
A27: 23 | C27: =C42 -> speler 7 | G27: - | H27: =C39 -> speler 4 | L27: =C41 -> speler 6
A28: 24 | C28: =C37 -> speler 2 | G28: - | H28: =C36 -> speler 1 | L28: =C42 -> speler 7
A29: 25 | C29: =Spelerslijst!B11 -> speler 8 | G29: - | H29: =C40 -> speler 5 | L29: =C38 -> speler 3
A30: 26 | C30: =C42 -> speler 7 | G30: - | H30: =C41 -> speler 6 | L30: =C36 -> speler 1
A31: 27 | C31: =C36 -> speler 1 | G31: - | H31: =C38 -> speler 3 | L31: =C37 -> speler 2
A32: 28 | C32: =C37 -> speler 2 | G32: - | H32: =C39 -> speler 4 | L32: =C40 -> speler 5
C35: controle :
C36: =Spelerslijst!B4 -> speler 1 | D36: =COUNTIF(C$5:H$33,C36) -> 7 | E36: =COUNTIF(L$5:L$33,C36) -> 4
C37: =Spelerslijst!B5 -> speler 2 | D37: =COUNTIF(C$5:H$33,C37) -> 7 | E37: =COUNTIF(L$5:L$33,C37) -> 4
C38: =Spelerslijst!B6 -> speler 3 | D38: =COUNTIF(C$5:H$33,C38) -> 7 | E38: =COUNTIF(L$5:L$33,C38) -> 4
C39: =Spelerslijst!B7 -> speler 4 | D39: =COUNTIF(C$5:H$33,C39) -> 7 | E39: =COUNTIF(L$5:L$33,C39) -> 3
C40: =Spelerslijst!B8 -> speler 5 | D40: =COUNTIF(C$5:H$33,C40) -> 7 | E40: =COUNTIF(L$5:L$33,C40) -> 4
C41: =Spelerslijst!B9 -> speler 6 | D41: =COUNTIF(C$5:H$33,C41) -> 7 | E41: =COUNTIF(L$5:L$33,C41) -> 3
C42: =Spelerslijst!B10 -> speler 7 | D42: =COUNTIF(C$5:H$33,C42) -> 7 | E42: =COUNTIF(L$5:L$33,C42) -> 3
C43: =Spelerslijst!B11 -> speler 8 | D43: =COUNTIF(C$5:H$33,C43) -> 7 | E43: =COUNTIF(L$5:L$33,C43) -> 3

Sheet 9 personen
A1: Wedstrijdschema Buurtkamer Heujmansbelt
A2: 9 personen | R2: stand
N3: hulpkolommen
A4: nr. | B4: datum | C4: naam speler | D4: caramboles | E4: beurten | F4: punten | H4: naam speler | I4: =D4 -> caramboles | J4: =E4 -> beurten | K4: =F4 -> punten | L4: arbiter | R4: naam speler | S4: wedstrijden | T4: caramboles | U4: beurten | V4: gemiddelde | W4: punten
A5: 1 | B5: 42711 | C5: =Spelerslijst!$B$4 -> speler 1 | G5: - | H5: =Spelerslijst!$B$12 -> speler 9 | L5: =Spelerslijst!$B$8 -> speler 5 | N5: =Spelerslijst!B4 -> speler 1 | O5: =SUMIF($C$5:$C$40,N5,$F$5:$F$40)+SUMIF($H$5:$H$40,N5,$K$5:$K$40) -> 0 | R5: =IF(ISERROR(INDEX($N$5:$N$13,MATCH(LARGE(O$5:$O$13,ROW()-4),$O$5:$O$13,0))),"",INDEX($N$5:$N$13,MATCH(LARGE($O$5:$O$13,ROW()-4),$O$5:$O$13,0))) -> speler 1 | T5: =SUMIF($C$5:$C$40,R5,$D$5:$D$40)+SUMIF($H$5:$H$40,R5,$I$5:$I$40) -> 0 | U5: =SUMIF($C$5:$C$40,R5,$E$5:$E$40)+SUMIF($H$5:$H$40,R5,$J$5:$J$40) -> 0 | V5: =IF(T5=0,"",T5/U5) | W5: =SUMIF(C$5:C$40,R5,$F$5:$F$40)+SUMIF($H$5:$H$40,R5,$K$5:$K$40) -> 0
A6: 2 | B6: 42711 | C6: =Spelerslijst!$B$5 -> speler 2 | G6: - | H6: =Spelerslijst!$B$11 -> speler 8 | L6: =Spelerslijst!$B$6 -> speler 3 | N6: =Spelerslijst!B5 -> speler 2 | O6: =SUMIF($C$5:$C$40,N6,$F$5:$F$40)+SUMIF($H$5:$H$40,N6,$K$5:$K$40) -> 0 | R6: =IF(ISERROR(INDEX($N$5:$N$13,MATCH(LARGE(O$5:$O$13,ROW()-4),$O$5:$O$13,0))),"",INDEX($N$5:$N$13,MATCH(LARGE($O$5:$O$13,ROW()-4),$O$5:$O$13,0))) -> speler 1 | T6: =SUMIF($C$5:$C$40,R6,$D$5:$D$40)+SUMIF($H$5:$H$40,R6,$I$5:$I$40) -> 0 | U6: =SUMIF($C$5:$C$40,R6,$E$5:$E$40)+SUMIF($H$5:$H$40,R6,$J$5:$J$40) -> 0 | V6: =IF(T6=0,"",T6/U6) | W6: =SUMIF(C$5:C$40,R6,$F$5:$F$40)+SUMIF($H$5:$H$40,R6,$K$5:$K$40) -> 0
A7: 3 | B7: 42711 | C7: =Spelerslijst!$B$6 -> speler 3 | G7: - | H7: =Spelerslijst!$B$10 -> speler 7 | L7: =Spelerslijst!$B$9 -> speler 6 | N7: =Spelerslijst!B6 -> speler 3 | O7: =SUMIF($C$5:$C$40,N7,$F$5:$F$40)+SUMIF($H$5:$H$40,N7,$K$5:$K$40) -> 0 | R7: =IF(ISERROR(INDEX($N$5:$N$13,MATCH(LARGE(O$5:$O$13,ROW()-4),$O$5:$O$13,0))),"",INDEX($N$5:$N$13,MATCH(LARGE($O$5:$O$13,ROW()-4),$O$5:$O$13,0))) -> speler 1 | T7: =SUMIF($C$5:$C$40,R7,$D$5:$D$40)+SUMIF($H$5:$H$40,R7,$I$5:$I$40) -> 0 | U7: =SUMIF($C$5:$C$40,R7,$E$5:$E$40)+SUMIF($H$5:$H$40,R7,$J$5:$J$40) -> 0 | V7: =IF(T7=0,"",T7/U7) | W7: =SUMIF(C$5:C$40,R7,$F$5:$F$40)+SUMIF($H$5:$H$40,R7,$K$5:$K$40) -> 0
A8: 4 | B8: 42711 | C8: =Spelerslijst!$B$7 -> speler 4 | G8: - | H8: =Spelerslijst!$B$9 -> speler 6 | L8: =Spelerslijst!$B$10 -> speler 7 | N8: =Spelerslijst!B7 -> speler 4 | O8: =SUMIF($C$5:$C$40,N8,$F$5:$F$40)+SUMIF($H$5:$H$40,N8,$K$5:$K$40) -> 0 | R8: =IF(ISERROR(INDEX($N$5:$N$13,MATCH(LARGE(O$5:$O$13,ROW()-4),$O$5:$O$13,0))),"",INDEX($N$5:$N$13,MATCH(LARGE($O$5:$O$13,ROW()-4),$O$5:$O$13,0))) -> speler 1 | T8: =SUMIF($C$5:$C$40,R8,$D$5:$D$40)+SUMIF($H$5:$H$40,R8,$I$5:$I$40) -> 0 | U8: =SUMIF($C$5:$C$40,R8,$E$5:$E$40)+SUMIF($H$5:$H$40,R8,$J$5:$J$40) -> 0 | V8: =IF(T8=0,"",T8/U8) | W8: =SUMIF(C$5:C$40,R8,$F$5:$F$40)+SUMIF($H$5:$H$40,R8,$K$5:$K$40) -> 0
A9: 5 | B9: 42711 | C9: =Spelerslijst!$B$8 -> speler 5 | G9: - | H9: =Spelerslijst!$B$12 -> speler 9 | L9: =Spelerslijst!$B$7 -> speler 4 | N9: =Spelerslijst!B8 -> speler 5 | O9: =SUMIF($C$5:$C$40,N9,$F$5:$F$40)+SUMIF($H$5:$H$40,N9,$K$5:$K$40) -> 0 | R9: =IF(ISERROR(INDEX($N$5:$N$13,MATCH(LARGE(O$5:$O$13,ROW()-4),$O$5:$O$13,0))),"",INDEX($N$5:$N$13,MATCH(LARGE($O$5:$O$13,ROW()-4),$O$5:$O$13,0))) -> speler 1 | T9: =SUMIF($C$5:$C$40,R9,$D$5:$D$40)+SUMIF($H$5:$H$40,R9,$I$5:$I$40) -> 0 | U9: =SUMIF($C$5:$C$40,R9,$E$5:$E$40)+SUMIF($H$5:$H$40,R9,$J$5:$J$40) -> 0 | V9: =IF(T9=0,"",T9/U9) | W9: =SUMIF(C$5:C$40,R9,$F$5:$F$40)+SUMIF($H$5:$H$40,R9,$K$5:$K$40) -> 0
A10: 6 | B10: 42718 | C10: =Spelerslijst!$B$11 -> speler 8 | G10: - | H10: =Spelerslijst!$B$4 -> speler 1 | L10: =Spelerslijst!$B$5 -> speler 2 | N10: =Spelerslijst!B9 -> speler 6 | O10: =SUMIF($C$5:$C$40,N10,$F$5:$F$40)+SUMIF($H$5:$H$40,N10,$K$5:$K$40) -> 0 | R10: =IF(ISERROR(INDEX($N$5:$N$13,MATCH(LARGE(O$5:$O$13,ROW()-4),$O$5:$O$13,0))),"",INDEX($N$5:$N$13,MATCH(LARGE($O$5:$O$13,ROW()-4),$O$5:$O$13,0))) -> speler 1 | T10: =SUMIF($C$5:$C$40,R10,$D$5:$D$40)+SUMIF($H$5:$H$40,R10,$I$5:$I$40) -> 0 | U10: =SUMIF($C$5:$C$40,R10,$E$5:$E$40)+SUMIF($H$5:$H$40,R10,$J$5:$J$40) -> 0 | V10: =IF(T10=0,"",T10/U10) | W10: =SUMIF(C$5:C$40,R10,$F$5:$F$40)+SUMIF($H$5:$H$40,R10,$K$5:$K$40) -> 0
A11: 7 | B11: 42718 | C11: =Spelerslijst!$B$10 -> speler 7 | G11: - | H11: =Spelerslijst!$B$5 -> speler 2 | L11: =Spelerslijst!$B$4 -> speler 1 | N11: =Spelerslijst!B10 -> speler 7 | O11: =SUMIF($C$5:$C$40,N11,$F$5:$F$40)+SUMIF($H$5:$H$40,N11,$K$5:$K$40) -> 0 | R11: =IF(ISERROR(INDEX($N$5:$N$13,MATCH(LARGE(O$5:$O$13,ROW()-4),$O$5:$O$13,0))),"",INDEX($N$5:$N$13,MATCH(LARGE($O$5:$O$13,ROW()-4),$O$5:$O$13,0))) -> speler 1 | T11: =SUMIF($C$5:$C$40,R11,$D$5:$D$40)+SUMIF($H$5:$H$40,R11,$I$5:$I$40) -> 0 | U11: =SUMIF($C$5:$C$40,R11,$E$5:$E$40)+SUMIF($H$5:$H$40,R11,$J$5:$J$40) -> 0 | V11: =IF(T11=0,"",T11/U11) | W11: =SUMIF(C$5:C$40,R11,$F$5:$F$40)+SUMIF($H$5:$H$40,R11,$K$5:$K$40) -> 0
A12: 8 | B12: 42718 | C12: =Spelerslijst!$B$9 -> speler 6 | G12: - | H12: =Spelerslijst!$B$6 -> speler 3 | L12: =Spelerslijst!$B$11 -> speler 8 | N12: =Spelerslijst!B11 -> speler 8 | O12: =SUMIF($C$5:$C$40,N12,$F$5:$F$40)+SUMIF($H$5:$H$40,N12,$K$5:$K$40) -> 0 | R12: =IF(ISERROR(INDEX($N$5:$N$13,MATCH(LARGE(O$5:$O$13,ROW()-4),$O$5:$O$13,0))),"",INDEX($N$5:$N$13,MATCH(LARGE($O$5:$O$13,ROW()-4),$O$5:$O$13,0))) -> speler 1 | T12: =SUMIF($C$5:$C$40,R12,$D$5:$D$40)+SUMIF($H$5:$H$40,R12,$I$5:$I$40) -> 0 | U12: =SUMIF($C$5:$C$40,R12,$E$5:$E$40)+SUMIF($H$5:$H$40,R12,$J$5:$J$40) -> 0 | V12: =IF(T12=0,"",T12/U12) | W12: =SUMIF(C$5:C$40,R12,$F$5:$F$40)+SUMIF($H$5:$H$40,R12,$K$5:$K$40) -> 0
A13: 9 | B13: 42718 | C13: =Spelerslijst!$B$8 -> speler 5 | G13: - | H13: =Spelerslijst!$B$7 -> speler 4 | L13: =Spelerslijst!$B$12 -> speler 9 | N13: =Spelerslijst!B12 -> speler 9 | O13: =SUMIF($C$5:$C$40,N13,$F$5:$F$40)+SUMIF($H$5:$H$40,N13,$K$5:$K$40) -> 0 | R13: =IF(ISERROR(INDEX($N$5:$N$13,MATCH(LARGE(O$5:$O$13,ROW()-4),$O$5:$O$13,0))),"",INDEX($N$5:$N$13,MATCH(LARGE($O$5:$O$13,ROW()-4),$O$5:$O$13,0))) -> speler 1 | T13: =SUMIF($C$5:$C$40,R13,$D$5:$D$40)+SUMIF($H$5:$H$40,R13,$I$5:$I$40) -> 0 | U13: =SUMIF($C$5:$C$40,R13,$E$5:$E$40)+SUMIF($H$5:$H$40,R13,$J$5:$J$40) -> 0 | V13: =IF(T13=0,"",T13/U13) | W13: =SUMIF(C$5:C$40,R13,$F$5:$F$40)+SUMIF($H$5:$H$40,R13,$K$5:$K$40) -> 0
A14: 10 | B14: 42718 | C14: =Spelerslijst!$B$12 -> speler 9 | G14: - | H14: =Spelerslijst!$B$11 -> speler 8 | L14: =Spelerslijst!$B$8 -> speler 5
A15: 11 | C15: =Spelerslijst!$B$4 -> speler 1 | G15: - | H15: =Spelerslijst!$B$10 -> speler 7 | L15: =Spelerslijst!$B$6 -> speler 3
A16: 12 | C16: =Spelerslijst!$B$5 -> speler 2 | G16: - | H16: =Spelerslijst!$B$9 -> speler 6 | L16: =Spelerslijst!$B$10 -> speler 7
A17: 13 | C17: =Spelerslijst!$B$6 -> speler 3 | G17: - | H17: =Spelerslijst!$B$8 -> speler 5 | L17: =Spelerslijst!$B$9 -> speler 6
A18: 14 | C18: =Spelerslijst!$B$12 -> speler 9 | G18: - | H18: =Spelerslijst!$B$7 -> speler 4 | L18: =Spelerslijst!$B$4 -> speler 1
A19: 15 | C19: =Spelerslijst!$B$11 -> speler 8 | G19: - | H19: =Spelerslijst!$B$10 -> speler 7 | L19: =Spelerslijst!$B$7 -> speler 4
A20: 16 | C20: =Spelerslijst!$B$9 -> speler 6 | G20: - | H20: =Spelerslijst!$B$4 -> speler 1 | L20: =Spelerslijst!$B$11 -> speler 8
A21: 17 | C21: =Spelerslijst!$B$8 -> speler 5 | G21: - | H21: =Spelerslijst!$B$5 -> speler 2 | L21: =Spelerslijst!$B$12 -> speler 9
A22: 18 | C22: =Spelerslijst!$B$7 -> speler 4 | G22: - | H22: =Spelerslijst!$B$6 -> speler 3 | L22: =Spelerslijst!$B$5 -> speler 2
A23: 19 | C23: =Spelerslijst!$B$10 -> speler 7 | G23: - | H23: =Spelerslijst!$B$12 -> speler 9 | L23: =Spelerslijst!$B$8 -> speler 5
A24: 20 | C24: =Spelerslijst!$B$9 -> speler 6 | G24: - | H24: =Spelerslijst!$B$11 -> speler 8 | L24: =Spelerslijst!$B$6 -> speler 3
A25: 21 | C25: =Spelerslijst!$B$4 -> speler 1 | G25: - | H25: =Spelerslijst!$B$8 -> speler 5 | L25: =Spelerslijst!$B$9 -> speler 6
A26: 22 | C26: =Spelerslijst!$B$5 -> speler 2 | G26: - | H26: =Spelerslijst!$B$7 -> speler 4 | L26: =Spelerslijst!$B$10 -> speler 7
A27: 23 | C27: =Spelerslijst!$B$6 -> speler 3 | G27: - | H27: =Spelerslijst!$B$12 -> speler 9 | L27: =Spelerslijst!$B$7 -> speler 4
A28: 24 | C28: =Spelerslijst!$B$10 -> speler 7 | G28: - | H28: =Spelerslijst!$B$9 -> speler 6 | L28: =Spelerslijst!$B$4 -> speler 1
A29: 25 | C29: =Spelerslijst!$B$11 -> speler 8 | G29: - | H29: =Spelerslijst!$B$8 -> speler 5 | L29: =Spelerslijst!$B$5 -> speler 2
A30: 26 | C30: =Spelerslijst!$B$7 -> speler 4 | G30: - | H30: =Spelerslijst!$B$4 -> speler 1 | L30: =Spelerslijst!$B$11 -> speler 8
A31: 27 | C31: =Spelerslijst!$B$6 -> speler 3 | G31: - | H31: =Spelerslijst!$B$5 -> speler 2 | L31: =Spelerslijst!$B$12 -> speler 9
A32: 28 | C32: =Spelerslijst!$B$12 -> speler 9 | G32: - | H32: =Spelerslijst!$B$9 -> speler 6 | L32: =Spelerslijst!$B$8 -> speler 5
A33: 29 | C33: =Spelerslijst!$B$8 -> speler 5 | G33: - | H33: =Spelerslijst!$B$10 -> speler 7 | L33: =Spelerslijst!$B$6 -> speler 3
A34: 30 | C34: =Spelerslijst!$B$7 -> speler 4 | G34: - | H34: =Spelerslijst!$B$11 -> speler 8 | L34: =Spelerslijst!$B$9 -> speler 6
A35: 31 | C35: =Spelerslijst!$B$4 -> speler 1 | G35: - | H35: =Spelerslijst!$B$6 -> speler 3 | L35: =Spelerslijst!$B$10 -> speler 7
A36: 32 | C36: =Spelerslijst!$B$12 -> speler 9 | G36: - | H36: =Spelerslijst!$B$5 -> speler 2 | L36: =Spelerslijst!$B$7 -> speler 4
A37: 33 | C37: =Spelerslijst!$B$9 -> speler 6 | G37: - | H37: =Spelerslijst!$B$8 -> speler 5 | L37: =Spelerslijst!$B$4 -> speler 1
A38: 34 | C38: =Spelerslijst!$B$10 -> speler 7 | G38: - | H38: =Spelerslijst!$B$7 -> speler 4 | L38: =Spelerslijst!$B$11 -> speler 8
A39: 35 | C39: =Spelerslijst!$B$11 -> speler 8 | G39: - | H39: =Spelerslijst!$B$6 -> speler 3 | L39: =Spelerslijst!$B$5 -> speler 2
A40: 36 | C40: =Spelerslijst!$B$5 -> speler 2 | G40: - | H40: =Spelerslijst!$B$4 -> speler 1 | L40: =Spelerslijst!$B$12 -> speler 9
C42: controle :
C43: =Spelerslijst!B4 -> speler 1 | D43: =COUNTIF(C$5:H$40,C43) -> 8 | E43: =COUNTIF(L$5:L$40,C43) -> 4
C44: =Spelerslijst!B5 -> speler 2 | D44: =COUNTIF(C$5:H$40,C44) -> 8 | E44: =COUNTIF(L$5:L$40,C44) -> 4
C45: =Spelerslijst!B6 -> speler 3 | D45: =COUNTIF(C$5:H$40,C45) -> 8 | E45: =COUNTIF(L$5:L$40,C45) -> 4
C46: =Spelerslijst!B7 -> speler 4 | D46: =COUNTIF(C$5:H$40,C46) -> 8 | E46: =COUNTIF(L$5:L$40,C46) -> 4
C47: =Spelerslijst!B8 -> speler 5 | D47: =COUNTIF(C$5:H$40,C47) -> 8 | E47: =COUNTIF(L$5:L$40,C47) -> 4
C48: =Spelerslijst!B9 -> speler 6 | D48: =COUNTIF(C$5:H$40,C48) -> 8 | E48: =COUNTIF(L$5:L$40,C48) -> 4
C49: =Spelerslijst!B10 -> speler 7 | D49: =COUNTIF(C$5:H$40,C49) -> 8 | E49: =COUNTIF(L$5:L$40,C49) -> 4
C50: =Spelerslijst!B11 -> speler 8 | D50: =COUNTIF(C$5:H$40,C50) -> 8 | E50: =COUNTIF(L$5:L$40,C50) -> 4
C51: =Spelerslijst!B12 -> speler 9 | D51: =COUNTIF(C$5:H$40,C51) -> 8 | E51: =COUNTIF(L$5:L$40,C51) -> 4

Sheet 10 personen
A1: Wedstrijdschema Buurtkamer Heujmansbelt
A2: 10 personen
Q3: resultaten
A4: nr. | B4: datum | D4: caramboles | E4: beurten | F4: punten | H4: =D4 -> caramboles | I4: =E4 -> beurten | J4: =F4 -> punten | K4: arbiter | Q4: naam | R4: gespeelde wedstrijden | S4: caramboles | T4: beurten | U4: gemiddelde | V4: punten
A5: 1 | B5: 42711 | C5: =Spelerslijst!$B$13 -> speler 10 | G5: =Spelerslijst!$B$4 -> speler 1 | H5: 20 | I5: 20 | J5: 5 | K5: =Spelerslijst!$B$8 -> speler 5 | M5: =Spelerslijst!B4 -> speler 1 | N5: =SUMIF($C$5:$C$40,M5,$F$5:$F$40)+SUMIF($G$5:$G$40,M5,$J$5:$J$40) -> 5 | P5: 1 | Q5: =IF(ISERROR(INDEX($M$5:$M$13,MATCH(LARGE(N$5:$N$13,ROW()-4),$N$5:$N$13,0))),"",INDEX($M$5:$M$13,MATCH(LARGE($N$5:$N$13,ROW()-4),$N$5:$N$13,0))) -> speler 1 | R5: =COUNTIF(C2:C49,Spelerslijst!$B$11) -> 5 | S5: =SUMIF($C$5:$C$40,Q5,$D$5:$D$40)+SUMIF($G$5:$G$40,Q5,$H$5:$H$40) -> 20 | T5: =SUMIF($C$5:$C$40,Q5,$E$5:$E$40)+SUMIF($G$5:$G$40,Q5,$I$5:$I$40) -> 20 | U5: =IF(S5=0,"",S5/T5) -> 1 | V5: =SUMIF(C$5:C$40,Q5,$F$5:$F$40)+SUMIF($G$5:$G$40,Q5,$J$5:$J$40) -> 5
A6: 2 | B6: 42711 | C6: =Spelerslijst!$B$12 -> speler 9 | G6: =Spelerslijst!$B$5 -> speler 2 | J6: 2 | K6: =Spelerslijst!$B$6 -> speler 3 | M6: =Spelerslijst!B5 -> speler 2 | N6: =SUMIF($C$5:$C$40,M6,$F$5:$F$40)+SUMIF($G$5:$G$40,M6,$J$5:$J$40) -> 3 | P6: 2 | Q6: =IF(ISERROR(INDEX($M$5:$M$13,MATCH(LARGE(N$5:$N$13,ROW()-4),$N$5:$N$13,0))),"",INDEX($M$5:$M$13,MATCH(LARGE($N$5:$N$13,ROW()-4),$N$5:$N$13,0))) -> speler 8 | R6: =COUNTIF(C3:C50,Spelerslijst!$B$11) -> 5 | S6: =SUMIF($C$5:$C$40,Q6,$D$5:$D$40)+SUMIF($G$5:$G$40,Q6,$H$5:$H$40) -> 25 | T6: =SUMIF($C$5:$C$40,Q6,$E$5:$E$40)+SUMIF($G$5:$G$40,Q6,$I$5:$I$40) -> 20 | U6: =IF(S6=0,"",S6/T6) -> 1.25 | V6: =SUMIF(C$5:C$40,Q6,$F$5:$F$40)+SUMIF($G$5:$G$40,Q6,$J$5:$J$40) -> 4
A7: 3 | B7: 42711 | C7: =Spelerslijst!$B$11 -> speler 8 | D7: 25 | E7: 20 | F7: 4 | G7: =Spelerslijst!$B$6 -> speler 3 | J7: 1 | K7: =Spelerslijst!$B$9 -> speler 6 | M7: =Spelerslijst!B6 -> speler 3 | N7: =SUMIF($C$5:$C$40,M7,$F$5:$F$40)+SUMIF($G$5:$G$40,M7,$J$5:$J$40) -> 1 | P7: 3 | Q7: =IF(ISERROR(INDEX($M$5:$M$13,MATCH(LARGE(N$5:$N$13,ROW()-4),$N$5:$N$13,0))),"",INDEX($M$5:$M$13,MATCH(LARGE($N$5:$N$13,ROW()-4),$N$5:$N$13,0))) -> speler 2 | R7: =COUNTIF(D4:D51,">0") -> 3 | S7: =SUMIF($C$5:$C$40,Q7,$D$5:$D$40)+SUMIF($G$5:$G$40,Q7,$H$5:$H$40) -> 0 | T7: =SUMIF($C$5:$C$40,Q7,$E$5:$E$40)+SUMIF($G$5:$G$40,Q7,$I$5:$I$40) -> 0 | U7: =IF(S7=0,"",S7/T7) | V7: =SUMIF(C$5:C$40,Q7,$F$5:$F$40)+SUMIF($G$5:$G$40,Q7,$J$5:$J$40) -> 3
A8: 4 | B8: 42711 | C8: =Spelerslijst!$B$10 -> speler 7 | G8: =Spelerslijst!$B$7 -> speler 4 | K8: =Spelerslijst!$B$4 -> speler 1 | M8: =Spelerslijst!B7 -> speler 4 | N8: =SUMIF($C$5:$C$40,M8,$F$5:$F$40)+SUMIF($G$5:$G$40,M8,$J$5:$J$40) -> 0 | P8: 4 | Q8: =IF(ISERROR(INDEX($M$5:$M$13,MATCH(LARGE(N$5:$N$13,ROW()-4),$N$5:$N$13,0))),"",INDEX($M$5:$M$13,MATCH(LARGE($N$5:$N$13,ROW()-4),$N$5:$N$13,0))) -> speler 6 | R8: =COUNTIF(D5:D52,">0") -> 3 | S8: =SUMIF($C$5:$C$40,Q8,$D$5:$D$40)+SUMIF($G$5:$G$40,Q8,$H$5:$H$40) -> 20 | T8: =SUMIF($C$5:$C$40,Q8,$E$5:$E$40)+SUMIF($G$5:$G$40,Q8,$I$5:$I$40) -> 20 | U8: =IF(S8=0,"",S8/T8) -> 1 | V8: =SUMIF(C$5:C$40,Q8,$F$5:$F$40)+SUMIF($G$5:$G$40,Q8,$J$5:$J$40) -> 2
A9: 5 | B9: 42711 | C9: =Spelerslijst!$B$9 -> speler 6 | D9: 20 | E9: 20 | F9: 2 | G9: =Spelerslijst!$B$8 -> speler 5 | K9: =Spelerslijst!$B$10 -> speler 7 | M9: =Spelerslijst!B8 -> speler 5 | N9: =SUMIF($C$5:$C$40,M9,$F$5:$F$40)+SUMIF($G$5:$G$40,M9,$J$5:$J$40) -> 0 | P9: 5 | Q9: =IF(ISERROR(INDEX($M$5:$M$13,MATCH(LARGE(N$5:$N$13,ROW()-4),$N$5:$N$13,0))),"",INDEX($M$5:$M$13,MATCH(LARGE($N$5:$N$13,ROW()-4),$N$5:$N$13,0))) -> speler 3 | R9: =IF(AND($A2<=D1,$B2>=D1),1,0) -> 0 | S9: =SUMIF($C$5:$C$40,Q9,$D$5:$D$40)+SUMIF($G$5:$G$40,Q9,$H$5:$H$40) -> 0 | T9: =SUMIF($C$5:$C$40,Q9,$E$5:$E$40)+SUMIF($G$5:$G$40,Q9,$I$5:$I$40) -> 0 | U9: =IF(S9=0,"",S9/T9) | V9: =SUMIF(C$5:C$40,Q9,$F$5:$F$40)+SUMIF($G$5:$G$40,Q9,$J$5:$J$40) -> 1
A10: 6 | B10: 42718 | C10: =Spelerslijst!$B$4 -> speler 1 | G10: =Spelerslijst!$B$12 -> speler 9 | K10: =Spelerslijst!$B$7 -> speler 4 | M10: =Spelerslijst!B9 -> speler 6 | N10: =SUMIF($C$5:$C$40,M10,$F$5:$F$40)+SUMIF($G$5:$G$40,M10,$J$5:$J$40) -> 2 | P10: 6 | Q10: =IF(ISERROR(INDEX($M$5:$M$13,MATCH(LARGE(N$5:$N$13,ROW()-4),$N$5:$N$13,0))),"",INDEX($M$5:$M$13,MATCH(LARGE($N$5:$N$13,ROW()-4),$N$5:$N$13,0))) -> speler 4 | R10: =IF(AND($A2<=D1,$B2>=D1),1,0) -> 0 | S10: =SUMIF($C$5:$C$40,Q10,$D$5:$D$40)+SUMIF($G$5:$G$40,Q10,$H$5:$H$40) -> 0 | T10: =SUMIF($C$5:$C$40,Q10,$E$5:$E$40)+SUMIF($G$5:$G$40,Q10,$I$5:$I$40) -> 0 | U10: =IF(S10=0,"",S10/T10) | V10: =SUMIF(C$5:C$40,Q10,$F$5:$F$40)+SUMIF($G$5:$G$40,Q10,$J$5:$J$40) -> 0
A11: 7 | B11: 42718 | C11: =Spelerslijst!$B$11 -> speler 8 | G11: =Spelerslijst!$B$13 -> speler 10 | K11: =Spelerslijst!$B$5 -> speler 2 | M11: =Spelerslijst!B10 -> speler 7 | N11: =SUMIF($C$5:$C$40,M11,$F$5:$F$40)+SUMIF($G$5:$G$40,M11,$J$5:$J$40) -> 0 | P11: 7 | Q11: =IF(ISERROR(INDEX($M$5:$M$13,MATCH(LARGE(N$5:$N$13,ROW()-4),$N$5:$N$13,0))),"",INDEX($M$5:$M$13,MATCH(LARGE($N$5:$N$13,ROW()-4),$N$5:$N$13,0))) -> speler 4 | R11: =SUMPRODUCT(($D$5:$D$49="h")*($D$5:$D$49<>0)) -> 1 | S11: =SUMIF($C$5:$C$40,Q11,$D$5:$D$40)+SUMIF($G$5:$G$40,Q11,$H$5:$H$40) -> 0 | T11: =SUMIF($C$5:$C$40,Q11,$E$5:$E$40)+SUMIF($G$5:$G$40,Q11,$I$5:$I$40) -> 0 | U11: =IF(S11=0,"",S11/T11) | V11: =SUMIF(C$5:C$40,Q11,$F$5:$F$40)+SUMIF($G$5:$G$40,Q11,$J$5:$J$40) -> 0
A12: 8 | B12: 42718 | C12: =Spelerslijst!$B$10 -> speler 7 | D12: 25 | G12: =Spelerslijst!$B$5 -> speler 2 | J12: 1 | K12: =Spelerslijst!$B$11 -> speler 8 | M12: =Spelerslijst!B11 -> speler 8 | N12: =SUMIF($C$5:$C$40,M12,$F$5:$F$40)+SUMIF($G$5:$G$40,M12,$J$5:$J$40) -> 4 | P12: 8 | Q12: =IF(ISERROR(INDEX($M$5:$M$13,MATCH(LARGE(N$5:$N$13,ROW()-4),$N$5:$N$13,0))),"",INDEX($M$5:$M$13,MATCH(LARGE($N$5:$N$13,ROW()-4),$N$5:$N$13,0))) -> speler 4 | R12: =COUNTIFS($D$5:$D$49,M7) -> 0 | S12: =SUMIF($C$5:$C$40,Q12,$D$5:$D$40)+SUMIF($G$5:$G$40,Q12,$H$5:$H$40) -> 0 | T12: =SUMIF($C$5:$C$40,Q12,$E$5:$E$40)+SUMIF($G$5:$G$40,Q12,$I$5:$I$40) -> 0 | U12: =IF(S12=0,"",S12/T12) | V12: =SUMIF(C$5:C$40,Q12,$F$5:$F$40)+SUMIF($G$5:$G$40,Q12,$J$5:$J$40) -> 0
A13: 9 | B13: 42718 | C13: =Spelerslijst!$B$9 -> speler 6 | D13: g | G13: =Spelerslijst!$B$6 -> speler 3 | K13: =Spelerslijst!$B$13 -> speler 10 | M13: =Spelerslijst!B12 -> speler 9 | N13: =SUMIF($C$5:$C$40,M13,$F$5:$F$40)+SUMIF($G$5:$G$40,M13,$J$5:$J$40) -> 0 | P13: 9 | Q13: =IF(ISERROR(INDEX($M$5:$M$13,MATCH(LARGE(N$5:$N$13,ROW()-4),$N$5:$N$13,0))),"",INDEX($M$5:$M$13,MATCH(LARGE($N$5:$N$13,ROW()-4),$N$5:$N$13,0))) -> speler 4 | R13: =IF(C5:C49,"Q13",SUMPRODUCT(($D$5:$D$49="g"),($D$5:$D$49<>0))) -> #VALUE! | S13: =SUMIF($C$5:$C$40,Q13,$D$5:$D$40)+SUMIF($G$5:$G$40,Q13,$H$5:$H$40) -> 0 | T13: =SUMIF($C$5:$C$40,Q13,$E$5:$E$40)+SUMIF($G$5:$G$40,Q13,$I$5:$I$40) -> 0 | U13: =IF(S13=0,"",S13/T13) | V13: =SUMIF(C$5:C$40,Q13,$F$5:$F$40)+SUMIF($G$5:$G$40,Q13,$J$5:$J$40) -> 0
A14: 10 | B14: 42718 | C14: =Spelerslijst!$B$8 -> speler 5 | G14: =Spelerslijst!$B$7 -> speler 4 | K14: =Spelerslijst!$B$12 -> speler 9 | M14: =Spelerslijst!B13 -> speler 10 | N14: =SUMIF($C$5:$C$40,M14,$F$5:$F$40)+SUMIF($G$5:$G$40,M14,$J$5:$J$40) -> 0 | P14: 10 | Q14: =IF(ISERROR(INDEX($M$5:$M$13,MATCH(LARGE(N$5:$N$13,ROW()-4),$N$5:$N$13,0))),"",INDEX($M$5:$M$13,MATCH(LARGE($N$5:$N$13,ROW()-4),$N$5:$N$13,0))) | S14: =SUMIF($C$5:$C$40,Q14,$D$5:$D$40)+SUMIF($G$5:$G$40,Q14,$H$5:$H$40) -> 0 | T14: =SUMIF($C$5:$C$40,Q14,$E$5:$E$40)+SUMIF($G$5:$G$40,Q14,$I$5:$I$40) -> 0 | U14: =IF(S14=0,"",S14/T14) | V14: =SUMIF(C$5:C$40,Q14,$F$5:$F$40)+SUMIF($G$5:$G$40,Q14,$J$5:$J$40) -> 0
A15: 11 | C15: =Spelerslijst!$B$13 -> speler 10 | G15: =Spelerslijst!$B$12 -> speler 9 | K15: =Spelerslijst!$B$8 -> speler 5
A16: 12 | C16: =Spelerslijst!$B$11 -> speler 8 | G16: =Spelerslijst!$B$4 -> speler 1 | K16: =Spelerslijst!$B$6 -> speler 3
A17: 13 | C17: =Spelerslijst!$B$5 -> speler 2 | G17: =Spelerslijst!$B$9 -> speler 6 | K17: =Spelerslijst!$B$10 -> speler 7
A18: 14 | C18: =Spelerslijst!$B$8 -> speler 5 | D18: h | G18: =Spelerslijst!$B$10 -> speler 7 | K18: =Spelerslijst!$B$9 -> speler 6
A19: 15 | C19: =Spelerslijst!$B$7 -> speler 4 | G19: =Spelerslijst!$B$6 -> speler 3 | K19: =Spelerslijst!$B$4 -> speler 1
A20: 16 | C20: =Spelerslijst!$B$12 -> speler 9 | G20: =Spelerslijst!$B$11 -> speler 8 | K20: =Spelerslijst!$B$7 -> speler 4
A21: 17 | C21: =Spelerslijst!$B$13 -> speler 10 | G21: =Spelerslijst!$B$10 -> speler 7 | K21: =Spelerslijst!$B$11 -> speler 8
A22: 18 | C22: =Spelerslijst!$B$9 -> speler 6 | G22: =Spelerslijst!$B$4 -> speler 1 | K22: =Spelerslijst!$B$13 -> speler 10
A23: 19 | C23: =Spelerslijst!$B$8 -> speler 5 | G23: =Spelerslijst!$B$5 -> speler 2 | K23: =Spelerslijst!$B$12 -> speler 9
A24: 20 | C24: =Spelerslijst!$B$7 -> speler 4 | G24: =Spelerslijst!$B$13 -> speler 10 | K24: =Spelerslijst!$B$5 -> speler 2
A25: 21 | C25: =Spelerslijst!$B$6 -> speler 3 | G25: =Spelerslijst!$B$12 -> speler 9 | K25: =Spelerslijst!$B$8 -> speler 5
A26: 22 | C26: =Spelerslijst!$B$11 -> speler 8 | G26: =Spelerslijst!$B$10 -> speler 7 | K26: =Spelerslijst!$B$6 -> speler 3
A27: 23 | C27: =Spelerslijst!$B$7 -> speler 4 | G27: =Spelerslijst!$B$9 -> speler 6 | K27: =Spelerslijst!$B$10 -> speler 7
A28: 24 | C28: =Spelerslijst!$B$4 -> speler 1 | G28: =Spelerslijst!$B$8 -> speler 5 | K28: =Spelerslijst!$B$9 -> speler 6
A29: 25 | C29: =Spelerslijst!$B$6 -> speler 3 | G29: =Spelerslijst!$B$5 -> speler 2 | K29: =Spelerslijst!$B$7 -> speler 4
A30: 26 | C30: =Spelerslijst!$B$9 -> speler 6 | G30: speler 10 | K30: =Spelerslijst!$B$4 -> speler 1
A31: 27 | C31: =Spelerslijst!$B$10 -> speler 7 | G31: =Spelerslijst!$B$12 -> speler 9 | K31: =Spelerslijst!$B$11 -> speler 8
A32: 28 | C32: =Spelerslijst!$B$11 -> speler 8 | G32: =Spelerslijst!$B$8 -> speler 5 | K32: =Spelerslijst!$B$13 -> speler 10
A33: 29 | C33: =Spelerslijst!$B$5 -> speler 2 | G33: =Spelerslijst!$B$7 -> speler 4 | K33: =Spelerslijst!$B$12 -> speler 9
A34: 30 | C34: =Spelerslijst!$B$4 -> speler 1 | G34: =Spelerslijst!$B$6 -> speler 3 | K34: =Spelerslijst!$B$5 -> speler 2
A35: 31 | C35: speler 10 | G35: =Spelerslijst!$B$8 -> speler 5 | K35: =Spelerslijst!$B$6 -> speler 3
A36: 32 | C36: =Spelerslijst!$B$12 -> speler 9 | G36: =Spelerslijst!$B$9 -> speler 6 | K36: =Spelerslijst!$B$8 -> speler 5
A37: 33 | C37: =Spelerslijst!$B$6 -> speler 3 | G37: =Spelerslijst!$B$10 -> speler 7 | K37: =Spelerslijst!$B$9 -> speler 6
A38: 34 | C38: =Spelerslijst!$B$7 -> speler 4 | G38: =Spelerslijst!$B$11 -> speler 8 | K38: =Spelerslijst!$B$10 -> speler 7
A39: 35 | C39: =Spelerslijst!$B$5 -> speler 2 | G39: =Spelerslijst!$B$4 -> speler 1 | K39: =Spelerslijst!$B$7 -> speler 4
A40: 36 | C40: speler 10 | G40: =Spelerslijst!$B$6 -> speler 3 | K40: =Spelerslijst!$B$4 -> speler 1
A41: 37 | C41: =Spelerslijst!$B$8 -> speler 5 | G41: =Spelerslijst!$B$12 -> speler 9 | K41: =Spelerslijst!$B$11 -> speler 8
A42: 38 | C42: =Spelerslijst!$B$9 -> speler 6 | G42: =Spelerslijst!$B$11 -> speler 8 | K42: =Spelerslijst!$B$13 -> speler 10
A43: 39 | C43: =Spelerslijst!$B$4 -> speler 1 | G43: =Spelerslijst!$B$10 -> speler 7 | K43: =Spelerslijst!$B$5 -> speler 2
A44: 40 | C44: =Spelerslijst!$B$12 -> speler 9 | G44: =Spelerslijst!$B$7 -> speler 4 | K44: =Spelerslijst!$B$8 -> speler 5
A45: 41 | C45: =Spelerslijst!$B$5 -> speler 2 | G45: =Spelerslijst!$B$13 -> speler 10 | K45: =Spelerslijst!$B$12 -> speler 9
A46: 42 | C46: =Spelerslijst!$B$6 -> speler 3 | G46: =Spelerslijst!$B$8 -> speler 5 | K46: =Spelerslijst!$B$9 -> speler 6
A47: 43 | C47: =Spelerslijst!$B$5 -> speler 2 | G47: =Spelerslijst!$B$11 -> speler 8 | K47: =Spelerslijst!$B$6 -> speler 3
A48: 44 | C48: =Spelerslijst!$B$10 -> speler 7 | G48: =Spelerslijst!$B$9 -> speler 6 | K48: =Spelerslijst!$B$7 -> speler 4
A49: 45 | C49: =Spelerslijst!$B$7 -> speler 4 | G49: =Spelerslijst!$B$4 -> speler 1 | K49: =Spelerslijst!$B$10 -> speler 7
C53: controle :
C54: =Spelerslijst!B4 -> speler 1 | D54: =COUNTIF(C$5:G$49,C54) -> 9 | E54: =COUNTIF(K$5:K$49,C54) -> 4
C55: =Spelerslijst!B5 -> speler 2 | D55: =COUNTIF(C$5:G$49,C55) -> 9 | E55: =COUNTIF(K$5:K$49,C55) -> 4
C56: =Spelerslijst!B6 -> speler 3 | D56: =COUNTIF(C$5:G$49,C56) -> 9 | E56: =COUNTIF(K$5:K$49,C56) -> 5
C57: =Spelerslijst!B7 -> speler 4 | D57: =COUNTIF(C$5:G$49,C57) -> 9 | E57: =COUNTIF(K$5:K$49,C57) -> 5
C58: =Spelerslijst!B8 -> speler 5 | D58: =COUNTIF(C$5:G$49,C58) -> 9 | E58: =COUNTIF(K$5:K$49,C58) -> 5
C59: =Spelerslijst!B9 -> speler 6 | D59: =COUNTIF(C$5:G$49,C59) -> 9 | E59: =COUNTIF(K$5:K$49,C59) -> 5
C60: =Spelerslijst!B10 -> speler 7 | D60: =COUNTIF(C$5:G$49,C60) -> 9 | E60: =COUNTIF(K$5:K$49,C60) -> 5
C61: =Spelerslijst!B11 -> speler 8 | D61: =COUNTIF(C$5:G$49,C61) -> 9 | E61: =COUNTIF(K$5:K$49,C61) -> 4
C62: =Spelerslijst!B12 -> speler 9 | D62: =COUNTIF(C$5:G$49,C62) -> 9 | E62: =COUNTIF(K$5:K$49,C62) -> 4
C63: =Spelerslijst!B13 -> speler 10 | D63: =COUNTIF(C$5:G$49,C63) -> 9 | E63: =COUNTIF(K$5:K$49,C63) -> 4
D64: =SUM(D54:D63) -> 90 | E64: =SUM(E54:E63) -> 45
