Workbook

Sheet Spelerslijst
A1: Spelerslijst Buurtkamer Heujmansbelt
A4: A | B4: speler 1
A5: B | B5: Berend
A6: C | B6: speler 3
A7: D | B7: speler 4
A8: E | B8: speler 5
A9: F | B9: speler 6
A10: G | B10: speler 7
A11: H | B11: speler 8
A12: I | B12: speler 9
A13: J | B13: speler 10
A14: K | B14: speler 11
A15: L | B15: speler 12
... A18: O | B18: speler 15

Sheet 9 personen
A1: Wedstrijdschema Buurtkamer Heujmansbelt
A2: 9 personen
R3: resultaten
A4: nr. | B4: datum | K4: arbiter | R4: naam | S4: wedstrijden | T4: caramboles | U4: beurten | V4: gemiddelde | W4: punten | Y4: Naam | Z4: Punten
A5: 1 | B5: 42711 | C5: =Spelerslijst!$B$4 -> speler 1 | D5: 25 | E5: 6 | F5: 1 | G5: =Spelerslijst!$B$12 -> speler 9 | H5: 40 | I5: 20 | J5: 6 | K5: =Spelerslijst!$B$8 -> speler 5 | L5: =Spelerslijst!B4 -> speler 1 | M5: =SUMIF($C$5:$C$40,L5,$F$5:$F$40)+SUMIF($G$5:$G$40,L5,$J$5:$J$40) -> 1 | N5: =M5+ROW()/100 -> 1.05 | R5: =IF(ISERROR(INDEX($L$5:$L$13,MATCH(LARGE(M$5:$M$13,ROW()-4),$M$5:$M$13,0))),"",INDEX($L$5:$L$13,MATCH(LARGE($M$5:$M$13,ROW()-4),$M$5:$M$13,0))) -> speler 9 | T5: =SUMIF($C$5:$C$40,R5,$D$5:$D$40)+SUMIF($G$5:$G$40,R5,$H$5:$H$40) -> 60 | U5: =SUMIF($C$5:$C$40,R5,$E$5:$E$40)+SUMIF($G$5:$G$40,R5,$I$5:$I$40) -> 32 | V5: =T5/U5 -> 1.875 | W5: =SUMIF(C$5:C$40,R5,$F$5:$F$40)+SUMIF($G$5:$G$40,R5,$J$5:$J$40) -> 10 | X5: 1 | Y5: =INDEX($L$5:$L$13,MATCH(LARGE($N$5:$N$13,X5),$N$5:$N$13,0)) -> speler 9 | Z5: =LARGE(M5:M13,1) -> 10
A6: 2 | B6: 42711 | C6: =Spelerslijst!$B$5 -> Berend | D6: 24 | E6: 7 | F6: 2 | G6: =Spelerslijst!$B$11 -> speler 8 | H6: 10 | I6: 15 | J6: 7 | K6: =Spelerslijst!$B$6 -> speler 3 | L6: =Spelerslijst!B5 -> Berend | M6: =SUMIF($C$5:$C$40,L6,$F$5:$F$40)+SUMIF($G$5:$G$40,L6,$J$5:$J$40) -> 2 | N6: =M6+ROW()/100 -> 2.06 | R6: =IF(ISERROR(INDEX($L$5:$L$13,MATCH(LARGE(M$5:$M$13,ROW()-4),$M$5:$M$13,0))),"",INDEX($L$5:$L$13,MATCH(LARGE($M$5:$M$13,ROW()-4),$M$5:$M$13,0))) -> speler 7 | T6: =SUMIF($C$5:$C$40,R6,$D$5:$D$40)+SUMIF($G$5:$G$40,R6,$H$5:$H$40) -> 20 | U6: =SUMIF($C$5:$C$40,R6,$E$5:$E$40)+SUMIF($G$5:$G$40,R6,$I$5:$I$40) -> 10 | V6: =T6/U6 -> 2 | W6: =SUMIF(C$5:C$40,R6,$F$5:$F$40)+SUMIF($G$5:$G$40,R6,$J$5:$J$40) -> 8 | X6: 2 | Y6: =INDEX($L$5:$L$13,MATCH(LARGE($N$5:$N$13,X6),$N$5:$N$13,0)) -> speler 7 | Z6: =LARGE(M5:M13,2) -> 8
A7: 3 | B7: 42711 | C7: =Spelerslijst!$B$6 -> speler 3 | D7: 23 | E7: 8 | F7: 2 | G7: =Spelerslijst!$B$10 -> speler 7 | H7: 20 | I7: 10 | J7: 8 | K7: =Spelerslijst!$B$9 -> speler 6 | L7: =Spelerslijst!B6 -> speler 3 | M7: =SUMIF($C$5:$C$40,L7,$F$5:$F$40)+SUMIF($G$5:$G$40,L7,$J$5:$J$40) -> 2 | N7: =M7+ROW()/100 -> 2.07 | R7: =IF(ISERROR(INDEX($L$5:$L$13,MATCH(LARGE(M$5:$M$13,ROW()-4),$M$5:$M$13,0))),"",INDEX($L$5:$L$13,MATCH(LARGE($M$5:$M$13,ROW()-4),$M$5:$M$13,0))) -> speler 8 | T7: =SUMIF($C$5:$C$40,R7,$D$5:$D$40)+SUMIF($G$5:$G$40,R7,$H$5:$H$40) -> 10 | U7: =SUMIF($C$5:$C$40,R7,$E$5:$E$40)+SUMIF($G$5:$G$40,R7,$I$5:$I$40) -> 15 | V7: =T7/U7 -> 0.66666667 | W7: =SUMIF(C$5:C$40,R7,$F$5:$F$40)+SUMIF($G$5:$G$40,R7,$J$5:$J$40) -> 7 | X7: 3 | Y7: =INDEX($L$5:$L$13,MATCH(LARGE($N$5:$N$13,X7),$N$5:$N$13,0)) -> speler 8 | Z7: =LARGE(M5:M13,3) -> 7
A8: 4 | B8: 42711 | C8: =Spelerslijst!$B$7 -> speler 4 | D8: 22 | E8: 9 | F8: 1 | G8: =Spelerslijst!$B$9 -> speler 6 | H8: 30 | I8: 5 | J8: 4 | K8: =Spelerslijst!$B$10 -> speler 7 | L8: =Spelerslijst!B7 -> speler 4 | M8: =SUMIF($C$5:$C$40,L8,$F$5:$F$40)+SUMIF($G$5:$G$40,L8,$J$5:$J$40) -> 1 | N8: =M8+ROW()/100 -> 1.08 | R8: =IF(ISERROR(INDEX($L$5:$L$13,MATCH(LARGE(M$5:$M$13,ROW()-4),$M$5:$M$13,0))),"",INDEX($L$5:$L$13,MATCH(LARGE($M$5:$M$13,ROW()-4),$M$5:$M$13,0))) -> speler 5 | T8: =SUMIF($C$5:$C$40,R8,$D$5:$D$40)+SUMIF($G$5:$G$40,R8,$H$5:$H$40) -> 21 | U8: =SUMIF($C$5:$C$40,R8,$E$5:$E$40)+SUMIF($G$5:$G$40,R8,$I$5:$I$40) -> 10 | V8: =T8/U8 -> 2.1 | W8: =SUMIF(C$5:C$40,R8,$F$5:$F$40)+SUMIF($G$5:$G$40,R8,$J$5:$J$40) -> 5 | X8: 4 | Y8: =INDEX($L$5:$L$13,MATCH(LARGE($N$5:$N$13,X8),$N$5:$N$13,0)) -> speler 5 | Z8: =LARGE(M5:M13,4) -> 5
A9: 5 | B9: 42711 | C9: =Spelerslijst!$B$8 -> speler 5 | D9: 21 | E9: 10 | F9: 5 | G9: =Spelerslijst!$B$12 -> speler 9 | H9: 20 | I9: 12 | J9: 4 | K9: =Spelerslijst!$B$7 -> speler 4 | L9: =Spelerslijst!B8 -> speler 5 | M9: =SUMIF($C$5:$C$40,L9,$F$5:$F$40)+SUMIF($G$5:$G$40,L9,$J$5:$J$40) -> 5 | N9: =M9+ROW()/100 -> 5.09 | R9: =IF(ISERROR(INDEX($L$5:$L$13,MATCH(LARGE(M$5:$M$13,ROW()-4),$M$5:$M$13,0))),"",INDEX($L$5:$L$13,MATCH(LARGE($M$5:$M$13,ROW()-4),$M$5:$M$13,0))) -> speler 6 | T9: =SUMIF($C$5:$C$40,R9,$D$5:$D$40)+SUMIF($G$5:$G$40,R9,$H$5:$H$40) -> 30 | U9: =SUMIF($C$5:$C$40,R9,$E$5:$E$40)+SUMIF($G$5:$G$40,R9,$I$5:$I$40) -> 5 | V9: =T9/U9 -> 6 | W9: =SUMIF(C$5:C$40,R9,$F$5:$F$40)+SUMIF($G$5:$G$40,R9,$J$5:$J$40) -> 4 | X9: 5 | Y9: =INDEX($L$5:$L$13,MATCH(LARGE($N$5:$N$13,X9),$N$5:$N$13,0)) -> speler 6 | Z9: =LARGE(M5:M13,5) -> 4
A10: 6 | B10: 42718 | C10: =Spelerslijst!$B$11 -> speler 8 | G10: =Spelerslijst!$B$4 -> speler 1 | K10: =Spelerslijst!$B$5 -> Berend | L10: =Spelerslijst!B9 -> speler 6 | M10: =SUMIF($C$5:$C$40,L10,$F$5:$F$40)+SUMIF($G$5:$G$40,L10,$J$5:$J$40) -> 4 | N10: =M10+ROW()/100 -> 4.1 | R10: =IF(ISERROR(INDEX($L$5:$L$13,MATCH(LARGE(M$5:$M$13,ROW()-4),$M$5:$M$13,0))),"",INDEX($L$5:$L$13,MATCH(LARGE($M$5:$M$13,ROW()-4),$M$5:$M$13,0))) -> Berend | T10: =SUMIF($C$5:$C$40,R10,$D$5:$D$40)+SUMIF($G$5:$G$40,R10,$H$5:$H$40) -> 24 | U10: =SUMIF($C$5:$C$40,R10,$E$5:$E$40)+SUMIF($G$5:$G$40,R10,$I$5:$I$40) -> 7 | V10: =T10/U10 -> 3.4285714 | W10: =SUMIF(C$5:C$40,R10,$F$5:$F$40)+SUMIF($G$5:$G$40,R10,$J$5:$J$40) -> 2 | X10: 6 | Y10: =INDEX($L$5:$L$13,MATCH(LARGE($N$5:$N$13,X10),$N$5:$N$13,0)) -> speler 3 | Z10: =LARGE(M5:M13,6) -> 2
A11: 7 | B11: 42718 | C11: =Spelerslijst!$B$10 -> speler 7 | G11: =Spelerslijst!$B$5 -> Berend | K11: =Spelerslijst!$B$4 -> speler 1 | L11: =Spelerslijst!B10 -> speler 7 | M11: =SUMIF($C$5:$C$40,L11,$F$5:$F$40)+SUMIF($G$5:$G$40,L11,$J$5:$J$40) -> 8 | N11: =M11+ROW()/100 -> 8.11 | R11: =IF(ISERROR(INDEX($L$5:$L$13,MATCH(LARGE(M$5:$M$13,ROW()-4),$M$5:$M$13,0))),"",INDEX($L$5:$L$13,MATCH(LARGE($M$5:$M$13,ROW()-4),$M$5:$M$13,0))) -> Berend | T11: =SUMIF($C$5:$C$40,R11,$D$5:$D$40)+SUMIF($G$5:$G$40,R11,$H$5:$H$40) -> 24 | U11: =SUMIF($C$5:$C$40,R11,$E$5:$E$40)+SUMIF($G$5:$G$40,R11,$I$5:$I$40) -> 7 | V11: =T11/U11 -> 3.4285714 | W11: =SUMIF(C$5:C$40,R11,$F$5:$F$40)+SUMIF($G$5:$G$40,R11,$J$5:$J$40) -> 2 | X11: 7 | Y11: =INDEX($L$5:$L$13,MATCH(LARGE($N$5:$N$13,X11),$N$5:$N$13,0)) -> Berend | Z11: =LARGE(M5:M13,7) -> 2
A12: 8 | B12: 42718 | C12: =Spelerslijst!$B$9 -> speler 6 | G12: =Spelerslijst!$B$6 -> speler 3 | K12: =Spelerslijst!$B$11 -> speler 8 | L12: =Spelerslijst!B11 -> speler 8 | M12: =SUMIF($C$5:$C$40,L12,$F$5:$F$40)+SUMIF($G$5:$G$40,L12,$J$5:$J$40) -> 7 | N12: =M12+ROW()/100 -> 7.12 | R12: =IF(ISERROR(INDEX($L$5:$L$13,MATCH(LARGE(M$5:$M$13,ROW()-4),$M$5:$M$13,0))),"",INDEX($L$5:$L$13,MATCH(LARGE($M$5:$M$13,ROW()-4),$M$5:$M$13,0))) -> speler 1 | T12: =SUMIF($C$5:$C$40,R12,$D$5:$D$40)+SUMIF($G$5:$G$40,R12,$H$5:$H$40) -> 25 | U12: =SUMIF($C$5:$C$40,R12,$E$5:$E$40)+SUMIF($G$5:$G$40,R12,$I$5:$I$40) -> 6 | V12: =T12/U12 -> 4.1666667 | W12: =SUMIF(C$5:C$40,R12,$F$5:$F$40)+SUMIF($G$5:$G$40,R12,$J$5:$J$40) -> 1 | X12: 8 | Y12: =INDEX($L$5:$L$13,MATCH(LARGE($N$5:$N$13,X12),$N$5:$N$13,0)) -> speler 4 | Z12: =LARGE(M5:M13,8) -> 1
A13: 9 | B13: 42718 | C13: =Spelerslijst!$B$8 -> speler 5 | G13: =Spelerslijst!$B$7 -> speler 4 | K13: =Spelerslijst!$B$12 -> speler 9 | L13: =Spelerslijst!B12 -> speler 9 | M13: =SUMIF($C$5:$C$40,L13,$F$5:$F$40)+SUMIF($G$5:$G$40,L13,$J$5:$J$40) -> 10 | N13: =M13+ROW()/100 -> 10.13 | R13: =IF(ISERROR(INDEX($L$5:$L$13,MATCH(LARGE(M$5:$M$13,ROW()-4),$M$5:$M$13,0))),"",INDEX($L$5:$L$13,MATCH(LARGE($M$5:$M$13,ROW()-4),$M$5:$M$13,0))) -> speler 1 | T13: =SUMIF($C$5:$C$40,R13,$D$5:$D$40)+SUMIF($G$5:$G$40,R13,$H$5:$H$40) -> 25 | U13: =SUMIF($C$5:$C$40,R13,$E$5:$E$40)+SUMIF($G$5:$G$40,R13,$I$5:$I$40) -> 6 | V13: =T13/U13 -> 4.1666667 | W13: =SUMIF(C$5:C$40,R13,$F$5:$F$40)+SUMIF($G$5:$G$40,R13,$J$5:$J$40) -> 1 | X13: 9 | Y13: =INDEX($L$5:$L$13,MATCH(LARGE($N$5:$N$13,X13),$N$5:$N$13,0)) -> speler 1 | Z13: =LARGE(M5:M13,9) -> 1
A14: 10 | B14: 42718 | C14: =Spelerslijst!$B$12 -> speler 9 | G14: =Spelerslijst!$B$11 -> speler 8 | K14: =Spelerslijst!$B$8 -> speler 5
A15: 11 | C15: =Spelerslijst!$B$4 -> speler 1 | G15: =Spelerslijst!$B$10 -> speler 7 | K15: =Spelerslijst!$B$6 -> speler 3
A16: 12 | C16: =Spelerslijst!$B$5 -> Berend | G16: =Spelerslijst!$B$9 -> speler 6 | K16: =Spelerslijst!$B$10 -> speler 7
A17: 13 | C17: =Spelerslijst!$B$6 -> speler 3 | G17: =Spelerslijst!$B$8 -> speler 5 | K17: =Spelerslijst!$B$9 -> speler 6
A18: 14 | C18: =Spelerslijst!$B$12 -> speler 9 | G18: =Spelerslijst!$B$7 -> speler 4 | K18: =Spelerslijst!$B$4 -> speler 1
A19: 15 | C19: =Spelerslijst!$B$11 -> speler 8 | G19: =Spelerslijst!$B$10 -> speler 7 | K19: =Spelerslijst!$B$7 -> speler 4
A20: 16 | C20: =Spelerslijst!$B$9 -> speler 6 | G20: =Spelerslijst!$B$4 -> speler 1 | K20: =Spelerslijst!$B$11 -> speler 8
A21: 17 | C21: =Spelerslijst!$B$8 -> speler 5 | G21: =Spelerslijst!$B$5 -> Berend | K21: =Spelerslijst!$B$12 -> speler 9
A22: 18 | C22: =Spelerslijst!$B$7 -> speler 4 | G22: =Spelerslijst!$B$6 -> speler 3 | K22: =Spelerslijst!$B$5 -> Berend
A23: 19 | C23: =Spelerslijst!$B$10 -> speler 7 | G23: =Spelerslijst!$B$12 -> speler 9 | K23: =Spelerslijst!$B$8 -> speler 5
A24: 20 | C24: =Spelerslijst!$B$9 -> speler 6 | G24: =Spelerslijst!$B$11 -> speler 8 | K24: =Spelerslijst!$B$6 -> speler 3
A25: 21 | C25: =Spelerslijst!$B$4 -> speler 1 | G25: =Spelerslijst!$B$8 -> speler 5 | K25: =Spelerslijst!$B$9 -> speler 6
A26: 22 | C26: =Spelerslijst!$B$5 -> Berend | G26: =Spelerslijst!$B$7 -> speler 4 | K26: =Spelerslijst!$B$10 -> speler 7
A27: 23 | C27: =Spelerslijst!$B$6 -> speler 3 | G27: =Spelerslijst!$B$12 -> speler 9 | K27: =Spelerslijst!$B$7 -> speler 4
A28: 24 | C28: =Spelerslijst!$B$10 -> speler 7 | G28: =Spelerslijst!$B$9 -> speler 6 | K28: =Spelerslijst!$B$4 -> speler 1
A29: 25 | C29: =Spelerslijst!$B$11 -> speler 8 | G29: =Spelerslijst!$B$8 -> speler 5 | K29: =Spelerslijst!$B$5 -> Berend
A30: 26 | C30: =Spelerslijst!$B$7 -> speler 4 | G30: =Spelerslijst!$B$4 -> speler 1 | K30: =Spelerslijst!$B$11 -> speler 8
A31: 27 | C31: =Spelerslijst!$B$6 -> speler 3 | G31: =Spelerslijst!$B$5 -> Berend | K31: =Spelerslijst!$B$12 -> speler 9
A32: 28 | C32: =Spelerslijst!$B$12 -> speler 9 | G32: =Spelerslijst!$B$9 -> speler 6 | K32: =Spelerslijst!$B$8 -> speler 5
A33: 29 | C33: =Spelerslijst!$B$8 -> speler 5 | G33: =Spelerslijst!$B$10 -> speler 7 | K33: =Spelerslijst!$B$6 -> speler 3
A34: 30 | C34: =Spelerslijst!$B$7 -> speler 4 | G34: =Spelerslijst!$B$11 -> speler 8 | K34: =Spelerslijst!$B$9 -> speler 6
A35: 31 | C35: =Spelerslijst!$B$4 -> speler 1 | G35: =Spelerslijst!$B$6 -> speler 3 | K35: =Spelerslijst!$B$10 -> speler 7
A36: 32 | C36: =Spelerslijst!$B$12 -> speler 9 | G36: =Spelerslijst!$B$5 -> Berend | K36: =Spelerslijst!$B$7 -> speler 4
A37: 33 | C37: =Spelerslijst!$B$9 -> speler 6 | G37: =Spelerslijst!$B$8 -> speler 5 | K37: =Spelerslijst!$B$4 -> speler 1
A38: 34 | C38: =Spelerslijst!$B$10 -> speler 7 | G38: =Spelerslijst!$B$7 -> speler 4 | K38: =Spelerslijst!$B$11 -> speler 8
A39: 35 | C39: =Spelerslijst!$B$11 -> speler 8 | G39: =Spelerslijst!$B$6 -> speler 3 | K39: =Spelerslijst!$B$5 -> Berend
A40: 36 | C40: =Spelerslijst!$B$5 -> Berend | G40: =Spelerslijst!$B$4 -> speler 1 | K40: =Spelerslijst!$B$12 -> speler 9
C43: speler 1 | D43: =COUNTIF(C$5:G$40,C43) -> 8 | E43: =COUNTIF(K$5:K$40,C43) -> 4
C44: speler 2 | D44: =COUNTIF(C$5:G$40,C44) -> 0 | E44: =COUNTIF(K$5:K$40,C44) -> 0
C45: speler 3 | D45: =COUNTIF(C$5:G$40,C45) -> 8 | E45: =COUNTIF(K$5:K$40,C45) -> 4
C46: speler 4 | D46: =COUNTIF(C$5:G$40,C46) -> 8 | E46: =COUNTIF(K$5:K$40,C46) -> 4
C47: speler 5 | D47: =COUNTIF(C$5:G$40,C47) -> 8 | E47: =COUNTIF(K$5:K$40,C47) -> 4
C48: speler 6 | D48: =COUNTIF(C$5:G$40,C48) -> 8 | E48: =COUNTIF(K$5:K$40,C48) -> 4
C49: speler 7 | D49: =COUNTIF(C$5:G$40,C49) -> 8 | E49: =COUNTIF(K$5:K$40,C49) -> 4
C50: speler 8 | D50: =COUNTIF(C$5:G$40,C50) -> 8 | E50: =COUNTIF(K$5:K$40,C50) -> 4
C51: speler 9 | D51: =COUNTIF(C$5:G$40,C51) -> 8 | E51: =COUNTIF(K$5:K$40,C51) -> 4

Sheet Blad3
